Workbook

Sheet صورت وضعیت پرتفوی
A24: صندوق سرمایه‌گذاری بخشی افق دماوند
A25: گزارش افشا پرتفوی ماهانه
A26: در اجرای ابلاغیه شماره 12020093 مورخ 1396/09/05 سازمان بورس اوراق بهادار
A27: ‫دوره یک ماهه منتهی 31 مرداد 1405
A36: .

Sheet سهام
A1: صندوق سرمایه‌گذاری افق دماوند
A2: صورت وضعیت پرتفوی
A3: برای ماه منتهی به 1405/05/31
A4: 1-سرمایه گذاری ها
A5: 1-1-سرمایه گذاری در سهام و حق تقدم سهام
C6: 1405/04/31 | I6: تغییرات طی دوره | Q6: 1405/05/31
I7: خرید طی دوره | M7: فروش طی دوره
A8: نام شرکت | C8: تعداد | E8: بهای تمام شده | G8: خالص ارزش فروش | I8: تعداد | K8: بهای تمام شده | M8: تعداد | O8: مبلغ فروش | Q8: تعداد | S8: قیمت بازار هر سهم | U8: بهای تمام شده | W8: خالص ارزش فروش | Y8: درصد به کل دارایی ها
A9: بانک صادرات ایران | C9: 39961000 | E9: 25107496300 | G9: 25416997042 | I9: 0 | K9: 0 | M9: -23419000 | O9: 0 | Q9: 16542000 | S9: 905 | U9: 10393338600 | W9: 14854787957 | Y9: =W9/3348756631570*100 -> 0.44359115
A10: پالایش نفت اصفهان | C10: 829410 | E10: 5828121406 | G10: 7752647383 | I10: 25171461 | K10: 292711688580 | M10: 0 | O10: 0 | Q10: 26000871 | S10: 11300 | U10: 298539809986 | W10: 291538692219 | Y10: =W10/3348756631570*100 -> 8.7058788
A11: پالایش نفت بندرعباس | C11: 1400000 | E11: 12244532722 | G11: 15392092240 | I11: 2800000 | K11: 36690483580 | M11: 0 | O11: 0 | Q11: 4200000 | S11: 12050 | U11: 48935016302 | W11: 50218784700 | Y11: =W11/3348756631570*100 -> 1.4996248
A12: پتروشیمی پارس | C12: 18460361 | E12: 41887348526 | G12: 34492158317 | I12: 0 | K12: 0 | M12: 0 | O12: 0 | Q12: 18460361 | S12: 2319 | U12: 41887348526 | W12: 42478659127 | Y12: =W12/3348756631570*100 -> 1.2684905
A13: پتروشیمی پردیس | C13: 16192687 | E13: 120014482426 | G13: 168226908533 | I13: 0 | K13: 0 | M13: 0 | O13: 0 | Q13: 16192687 | S13: 10490 | U13: 120014482426 | W13: 168548258884 | Y13: =W13/3348756631570*100 -> 5.0331594
A14: پتروشیمی تندگویان | C14: 4041021 | E14: 31828650703 | G14: 34604435123 | I14: 0 | K14: 0 | M14: 0 | O14: 0 | Q14: 4041021 | S14: 7690 | U14: 31828650703 | W14: 30835238249 | Y14: =W14/3348756631570*100 -> 0.92079663
A15: پتروشیمی جم پیلن | C15: 10000 | E15: 2332465080 | G15: 1715634830 | I15: 0 | K15: 0 | M15: 0 | O15: 0 | Q15: 10000 | S15: 236000 | U15: 2332465080 | W15: 2341757200 | Y15: =W15/3348756631570*100 -> 0.069929155
A16: پتروشیمی شازند | C16: 3373729 | E16: 37744429782 | G16: 60090318843 | I16: 0 | K16: 0 | M16: 0 | O16: 0 | Q16: 3373729 | S16: 19600 | U16: 37744429782 | W16: 65613941466 | Y16: =W16/3348756631570*100 -> 1.9593523
A17: پتروشیمی فناوران | C17: 2983927 | E17: 15214011271 | G17: 13294266986 | I17: 0 | K17: 0 | M17: 0 | O17: 0 | Q17: 2983927 | S17: 5660 | U17: 15214011271 | W17: 16758474642 | Y17: =W17/3348756631570*100 -> 0.50043871
A18: پتروشیمی مارون | C18: 251585 | E18: 16162232517 | G18: 12539429654 | I18: 0 | K18: 0 | M18: 0 | O18: 0 | Q18: 251585 | S18: 56280 | U18: 16162232517 | W18: 14049753154 | Y18: =W18/3348756631570*100 -> 0.41955134
A19: پتروشیمی نوری | C19: 2730605 | E19: 82136753441 | G19: 130353921037 | I19: 1638363 | K19: 0 | M19: 0 | O19: 0 | Q19: 4368968 | S19: 34390 | U19: 82136753441 | W19: 149087386222 | Y19: =W19/3348756631570*100 -> 4.4520221
A20: پتروشیمی‌ خارک‌ | C20: 138131 | E20: 12015849482 | G20: 12679721014 | I20: 0 | K20: 0 | M20: 0 | O20: 0 | Q20: 138131 | S20: 92510 | U20: 12015849482 | W20: 12679721014 | Y20: =W20/3348756631570*100 -> 0.37863967
... A63: اختیارخ شپنا-9000-1405/06/18 | C63: 0 | E63: 0 | G63: 0 | I63: 8197000 | K63: 25969578548 | M63: 0 | O63: 0 | Q63: 8197000 | S63: 3200 | U63: 25969578548 | W63: 26210727200 | Y63: =W63/3348756631570*100 -> 0.78270027
E64: =SUM(E9:E63) -> 1632053007380 | G64: =SUM(G9:G63) -> 2042008500223 | K64: =SUM(K9:K63) -> 8.5235613e+11 | O64: =SUM(O9:O63) -> 65908318127 | U64: =SUM(U9:U63) -> 2417001994533 | W64: =SUM(W9:W63) -> 3276703571739 | Y64: =SUM(Y9:Y63) -> 97.848364

Sheet اوراق مشتقه
A1: =سهام!A1 -> صندوق سرمایه‌گذاری افق دماوند
A2: صورت وضعیت پرتفوی
A3: =سهام!A3 -> برای ماه منتهی به 1405/05/31
A4: اطلاعات آماری مرتبط با موقعیت های اخذ شده در اوراق اختیار معامله توسط صندوق سرمایه گذاری:
C5: 1405/04/31 | Y5: 1405/05/31
A6: نام سهام | C6: نوع اختیار | E6: نوع موقعیت | G6: استراتژی ماخوذه | K6: تعداد اوراق | O6: قیمت اعمال | S6: تاریخ اعمال | Y6: نوع اختیار | AE6: نوع موقعیت | AK6: استراتژی ماخوذه | AO6: تعداد اوراق | AS6: قیمت اعمال | AV6: تاریخ اعمال
A7: اختیارخ وبصادر-600-1405/05/20 | C7: اختیار خرید | E7: موقعیت فروش | G7: - | K7: 35961000 | O7: 600 | S7: 1405/05/20 | Y7: اختیار خرید | AE7: - | AK7: - | AO7: 0 | AS7: 0 | AV7: -
A8: اختیارخ وبصادر-550-1405/05/20 | C8: اختیار خرید | E8: موقعیت فروش | G8: - | K8: 4000000 | O8: 550 | S8: 1405/05/20 | Y8: اختیار خرید | AE8: - | AK8: - | AO8: 0 | AS8: 0 | AV8: -
A9: اختیارخ فملی-18000-1405/05/14 | C9: اختیار خرید | E9: موقعیت فروش | G9: - | K9: 8777142 | O9: 18000 | S9: 1405/05/14 | Y9: اختیار خرید | AE9: - | AK9: - | AO9: 0 | AS9: 0 | AV9: -
A10: اختیارخ شپنا-9000-1405/06/18 | C10: اختیار خرید | E10: - | G10: - | K10: 0 | O10: 0 | S10: - | Y10: اختیار خرید | AE10: موقعیت خرید | AK10: - | AO10: 8197000 | AS10: 8260 | AV10: 1405/06/18
A11: اختیارخ شستا-2200-1405/06/11 | C11: اختیار خرید | E11: - | G11: - | K11: 0 | O11: 0 | S11: - | Y11: اختیار خرید | AE11: موقعیت خرید | AK11: - | AO11: 18613000 | AS11: 2200 | AV11: 1405/06/11
A12: اختیارف شپنا-10000-1405/06/18 | C12: اختیار فروش | E12: - | G12: - | K12: 0 | O12: 0 | S12: - | Y12: اختیار فروش | AE12: موقعیت خرید | AK12: - | AO12: 25000000 | AS12: 9260 | AV12: 1405/06/18
A13: اختیارف شستا-2400-1405/06/11 | C13: اختیار فروش | E13: - | G13: - | K13: 0 | O13: 0 | S13: - | Y13: اختیار فروش | AE13: موقعیت خرید | AK13: - | AO13: 18219000 | AS13: 2400 | AV13: 1405/06/11
A14: اختیارف وبملت-1200-1405/06/18 | C14: اختیار فروش | E14: - | G14: - | K14: 0 | O14: 0 | S14: - | Y14: اختیار فروش | AE14: موقعیت خرید | AK14: - | AO14: 39000000 | AS14: 1154 | AV14: 1405/06/18

Sheet اوراق
A1: =سهام!A1 -> صندوق سرمایه‌گذاری افق دماوند
A2: صورت وضعیت پرتفوی
A3: =سهام!A3 -> برای ماه منتهی به 1405/05/31
A5: 1-2-سرمایه‌گذاری در اوراق بهادار با درآمد ثابت یا علی‌الحساب
A6: اطلاعات اوراق با درآمد ثابت | O6: 1405/04/31 | U6: تغییرات طی دوره | AC6: 1405/05/31
U7: خرید طی دوره | Y7: فروش طی دوره
A8: نام اوراق | C8: دارای مجوز از سازمان | E8: پذیرفته شده در بورس یا فرابورس | G8: تاریخ انتشار اوراق | I8: تاریخ سررسید | K8: نرخ سود اسمی | M8: نرخ سود موثر | O8: تعداد | Q8: بهای تمام شده | S8: خالص ارزش فروش | U8: تعداد | W8: بهای تمام شده | Y8: تعداد | AA8: مبلغ فروش | AC8: تعداد | AE8: قیمت بازار هر سهم | AG8: بهای تمام شده | AI8: خالص ارزش فروش | AK8: درصد به کل دارایی ها
A9: صکوک مرابحه اندیمشک07-6ماهه23% | C9: بله | E9: بله | G9: 1402/10/06 | I9: 1407/10/06 | K9: 23 | M9: 23 | O9: 606000 | Q9: 606308414362 | S9: 605670487500 | U9: 14500 | W9: 14507884375 | Y9: -620500 | AA9: -620176103125 | AC9: 0 | AG9: 0 | AI9: 0 | AK9: =AI9/3348756631570*100 -> 0
Q10: =SUM(Q9) -> 606308414362 | S10: =SUM(S9) -> 605670487500 | W10: =SUM(W9) -> 14507884375 | AA10: =SUM(AA9) -> -620176103125 | AG10: =SUM(AG9) -> 0 | AI10: =SUM(AI9) -> 0 | AK10: =SUM(AK9) -> 0

Sheet سپرده
A1: =سهام!A1 -> صندوق سرمایه‌گذاری افق دماوند
A2: صورت وضعیت پرتفوی
A3: =سهام!A3 -> برای ماه منتهی به 1405/05/31
A5: 1-3-سرمایه‌گذاری در سپرده‌ بانکی
C6: 1405/04/31 | E6: تغییرات طی دوره | I6: 1405/05/31
A7: سپرده های بانکی | C7: مبلغ | E7: افزایش | G7: کاهش | I7: مبلغ | K7: درصد به کل دارایی ها
A8: سپرده بانک پاسارگاد | C8: 202908421 | E8: 156882131671 | G8: -157002598420 | I8: =C8+E8+G8 -> 82441672 | K8: =I8/3348756631570*100 -> 0.0024618592
A9: سپرده کوتاه مدت بانک گردشگری | C9: 3762920 | E9: =3239 -> 3239 | G9: 0 | I9: =C9+E9+G9 -> 3766159 | K9: =I9/3348756631570*100 -> 0.0001124644
A10: سپرده بانک پاسارگاد بانکداری دیجیتال | C10: 9274000 | E10: 0 | G10: 0 | I10: =C10+E10+G10 -> 9274000 | K10: =I10/3348756631570*100 -> 0.00027693861
C11: =SUM(C8:C10) -> 215945341 | E11: =SUM(E8:E10) -> 156882134910 | G11: =SUM(G8:G10) -> -157002598420 | I11: =SUM(I8:I10) -> 95481831 | K11: =SUM(K8:K10) -> 0.0028512622

Sheet درآمد
A1: =سهام!A1 -> صندوق سرمایه‌گذاری افق دماوند
A2: صورت وضعیت درآمدها
A3: =سهام!A3 -> برای ماه منتهی به 1405/05/31
A5: -2 | B5: درآمد حاصل از سرمایه گذاری ها
A7: شرح | D7: یادداشت | F7: مبلغ | H7: درصد از کل درآمدها | J7: درصد از کل دارایی ها
A8: درآمد حاصل از سرمایه گذاری در سهام و حق تقدم سهام | D8: 1-2 | F8: ='درآمد سرمایه گذاری در سهام'!S81 -> 713144621139 | H8: =F8/$F$12*100 -> 94.742908 | J8: =F8/1780977753407*100 -> 40.042309 | L8: ='درآمد سرمایه گذاری در سهام'!#REF! -> #REF! | M8: ='درآمد سرمایه گذاری در سهام'!#REF! -> #REF!
A9: درآمد حاصل از سرمایه گذاری در اوراق بهادار با درآمد ثابت | D9: 2-2 | F9: ='درآمد سرمایه گذاری در اوراق'!Q10 -> 37993720223 | H9: =F9/$F$12*100 -> 5.0475534 | J9: =F9/1780977753407*100 -> 2.1333068 | L9: ='درآمد سرمایه گذاری در اوراق'!I10 -> 11144003316 | M9: ='درآمد سرمایه گذاری در اوراق'!I10 -> 11144003316
A10: درآمد حاصل از سرمایه گذاری در سپرده بانکی و گواهی سپرده | D10: 3-2 | F10: ='درآمد سپرده بانکی'!G12 -> 1434386 | H10: =F10/$F$12*100 -> 0.00019056149 | J10: =F10/1780977753407*100 -> 8.0539243e-05 | L10: ='درآمد سپرده بانکی'!C12 -> 36257 | M10: ='درآمد سپرده بانکی'!C12 -> 36257
A11: سایر درآمدها | D11: 4-2 | F11: ='سایر درآمدها'!E10 -> 1575795135 | H11: =F11/$F$12*100 -> 0.20934802 | J11: =F11/1780977753407*100 -> 0.088479215 | L11: ='سایر درآمدها'!C10 -> 676832042 | M11: ='سایر درآمدها'!C10 -> 676832042
F12: =SUM(F8:F11) -> 752715570883 | H12: =SUM(H8:H11) -> 100 | J12: =SUM(J8:J11) -> 42.264176 | L12: =SUM(L8:L11) -> #REF! | M12: =SUM(M8:M11) -> #REF!
L13: 467858349622
L14: =L12-L13 -> #REF! | M14: 506827360920
M15: =M12-M14 -> #REF!

Sheet درآمد سرمایه گذاری در سهام
A1: =سهام!A1 -> صندوق سرمایه‌گذاری افق دماوند
A2: صورت وضعیت درآمدها
A3: =سهام!A3 -> برای ماه منتهی به 1405/05/31
A5: 1-2-درآمد حاصل از سرمایه­گذاری در سهام و حق تقدم سهام
C6: طی ماه | M6: از ابتدای سال مالی
I7: جمع | S7: جمع
A8: سهام | C8: درآمد سود سهام | E8: درآمد تغییر ارزش | G8: درآمد فروش | I8: مبلغ | K8: درصد از کل درآمدها | M8: درآمد سود سهام | O8: درآمد تغییر ارزش | Q8: درآمد فروش | S8: مبلغ | U8: درصد از کل درآمدها
A9: سرمایه‌گذاری صنایع پتروشیمی‌ | C9: =IFERROR(VLOOKUP(A9,'درآمد سود سهام'!A:S,9,0),0) -> 1090336500 | E9: =IFERROR(VLOOKUP(A9,'درآمد ناشی از تغییر قیمت اوراق'!A:Q,9,0),0) -> 2488388858 | G9: =IFERROR(VLOOKUP(A9,'درآمد ناشی از فروش'!A:Q,9,0),0) -> 0 | I9: =C9+E9+G9 -> 3578725358 | K9: =I9/490862349834*100 -> 0.72906903 | M9: =IFERROR(VLOOKUP(A9,'درآمد سود سهام'!A:S,15,0),0) -> 1090336500 | O9: =IFERROR(VLOOKUP(A9,'درآمد ناشی از تغییر قیمت اوراق'!A:Q,17,0),0) -> 2954592936 | Q9: =IFERROR(VLOOKUP(A9,'درآمد ناشی از فروش'!A:Q,17,0),0) -> 0 | S9: =M9+O9+Q9 -> 4044929436 | U9: =S9/درآمد!$F$12*100 -> 0.53737821
A10: پتروشیمی‌شیراز | C10: =IFERROR(VLOOKUP(A10,'درآمد سود سهام'!A:S,9,0),0) -> 0 | E10: =IFERROR(VLOOKUP(A10,'درآمد ناشی از تغییر قیمت اوراق'!A:Q,9,0),0) -> -141619196 | G10: =IFERROR(VLOOKUP(A10,'درآمد ناشی از فروش'!A:Q,9,0),0) -> 0 | I10: =C10+E10+G10 -> -141619196 | K10: =I10/490862349834*100 -> -0.028851102 | M10: =IFERROR(VLOOKUP(A10,'درآمد سود سهام'!A:S,15,0),0) -> 7062721888 | O10: =IFERROR(VLOOKUP(A10,'درآمد ناشی از تغییر قیمت اوراق'!A:Q,17,0),0) -> 546245468 | Q10: =IFERROR(VLOOKUP(A10,'درآمد ناشی از فروش'!A:Q,17,0),0) -> 0 | S10: =M10+O10+Q10 -> 7608967356 | U10: =S10/درآمد!$F$12*100 -> 1.0108689
A11: دوده‌ صنعتی‌ پارس‌ | C11: =IFERROR(VLOOKUP(A11,'درآمد سود سهام'!A:S,9,0),0) -> 0 | E11: =IFERROR(VLOOKUP(A11,'درآمد ناشی از تغییر قیمت اوراق'!A:Q,9,0),0) -> 745430931 | G11: =IFERROR(VLOOKUP(A11,'درآمد ناشی از فروش'!A:Q,9,0),0) -> 0 | I11: =C11+E11+G11 -> 745430931 | K11: =I11/490862349834*100 -> 0.1518615 | M11: =IFERROR(VLOOKUP(A11,'درآمد سود سهام'!A:S,15,0),0) -> 319276150 | O11: =IFERROR(VLOOKUP(A11,'درآمد ناشی از تغییر قیمت اوراق'!A:Q,17,0),0) -> 1026085676 | Q11: =IFERROR(VLOOKUP(A11,'درآمد ناشی از فروش'!A:Q,17,0),0) -> 0 | S11: =M11+O11+Q11 -> 1345361826 | U11: =S11/درآمد!$F$12*100 -> 0.17873442
A12: پالایش نفت اصفهان | C12: =IFERROR(VLOOKUP(A12,'درآمد سود سهام'!A:S,9,0),0) -> 0 | E12: =IFERROR(VLOOKUP(A12,'درآمد ناشی از تغییر قیمت اوراق'!A:Q,9,0),0) -> -8925643744 | G12: =IFERROR(VLOOKUP(A12,'درآمد ناشی از فروش'!A:Q,9,0),0) -> 0 | I12: =C12+E12+G12 -> -8925643744 | K12: =I12/490862349834*100 -> -1.8183598 | M12: =IFERROR(VLOOKUP(A12,'درآمد سود سهام'!A:S,15,0),0) -> 613763400 | O12: =IFERROR(VLOOKUP(A12,'درآمد ناشی از تغییر قیمت اوراق'!A:Q,17,0),0) -> -7001117767 | Q12: =IFERROR(VLOOKUP(A12,'درآمد ناشی از فروش'!A:Q,17,0),0) -> 0 | S12: =M12+O12+Q12 -> -6387354367 | U12: =S12/درآمد!$F$12*100 -> -0.84857476
A13: پتروشیمی فناوران | C13: =IFERROR(VLOOKUP(A13,'درآمد سود سهام'!A:S,9,0),0) -> 1447204595 | E13: =IFERROR(VLOOKUP(A13,'درآمد ناشی از تغییر قیمت اوراق'!A:Q,9,0),0) -> 3464207656 | G13: =IFERROR(VLOOKUP(A13,'درآمد ناشی از فروش'!A:Q,9,0),0) -> 0 | I13: =C13+E13+G13 -> 4911412251 | K13: =I13/490862349834*100 -> 1.0005681 | M13: =IFERROR(VLOOKUP(A13,'درآمد سود سهام'!A:S,15,0),0) -> 1447204595 | O13: =IFERROR(VLOOKUP(A13,'درآمد ناشی از تغییر قیمت اوراق'!A:Q,17,0),0) -> 4589334928 | Q13: =IFERROR(VLOOKUP(A13,'درآمد ناشی از فروش'!A:Q,17,0),0) -> 0 | S13: =M13+O13+Q13 -> 6036539523 | U13: =S13/درآمد!$F$12*100 -> 0.8019682
A14: پتروشیمی‌ خارک‌ | C14: =IFERROR(VLOOKUP(A14,'درآمد سود سهام'!A:S,9,0),0) -> 0 | E14: =IFERROR(VLOOKUP(A14,'درآمد ناشی از تغییر قیمت اوراق'!A:Q,9,0),0) -> 0 | G14: =IFERROR(VLOOKUP(A14,'درآمد ناشی از فروش'!A:Q,9,0),0) -> 0 | I14: =C14+E14+G14 -> 0 | K14: =I14/490862349834*100 -> 0 | M14: =IFERROR(VLOOKUP(A14,'درآمد سود سهام'!A:S,15,0),0) -> 1035982500 | O14: =IFERROR(VLOOKUP(A14,'درآمد ناشی از تغییر قیمت اوراق'!A:Q,17,0),0) -> -1027974355 | Q14: =IFERROR(VLOOKUP(A14,'درآمد ناشی از فروش'!A:Q,17,0),0) -> 0 | S14: =M14+O14+Q14 -> 8008145 | U14: =S14/درآمد!$F$12*100 -> 0.0010639005
A15: پتروشیمی شازند | C15: =IFERROR(VLOOKUP(A15,'درآمد سود سهام'!A:S,9,0),0) -> 0 | E15: =IFERROR(VLOOKUP(A15,'درآمد ناشی از تغییر قیمت اوراق'!A:Q,9,0),0) -> 5523622623 | G15: =IFERROR(VLOOKUP(A15,'درآمد ناشی از فروش'!A:Q,9,0),0) -> 0 | I15: =C15+E15+G15 -> 5523622623 | K15: =I15/490862349834*100 -> 1.1252895 | M15: =IFERROR(VLOOKUP(A15,'درآمد سود سهام'!A:S,15,0),0) -> 3711101900 | O15: =IFERROR(VLOOKUP(A15,'درآمد ناشی از تغییر قیمت اوراق'!A:Q,17,0),0) -> 27869511684 | Q15: =IFERROR(VLOOKUP(A15,'درآمد ناشی از فروش'!A:Q,17,0),0) -> 0 | S15: =M15+O15+Q15 -> 31580613584 | U15: =S15/درآمد!$F$12*100 -> 4.1955574
A16: کربن‌ ایران‌ | C16: =IFERROR(VLOOKUP(A16,'درآمد سود سهام'!A:S,9,0),0) -> 0 | E16: =IFERROR(VLOOKUP(A16,'درآمد ناشی از تغییر قیمت اوراق'!A:Q,9,0),0) -> 3286349499 | G16: =IFERROR(VLOOKUP(A16,'درآمد ناشی از فروش'!A:Q,9,0),0) -> 0 | I16: =C16+E16+G16 -> 3286349499 | K16: =I16/490862349834*100 -> 0.66950531 | M16: =IFERROR(VLOOKUP(A16,'درآمد سود سهام'!A:S,15,0),0) -> 2757022940 | O16: =IFERROR(VLOOKUP(A16,'درآمد ناشی از تغییر قیمت اوراق'!A:Q,17,0),0) -> 3426194159 | Q16: =IFERROR(VLOOKUP(A16,'درآمد ناشی از فروش'!A:Q,17,0),0) -> 0 | S16: =M16+O16+Q16 -> 6183217099 | U16: =S16/درآمد!$F$12*100 -> 0.82145466
A17: معدنی‌ املاح‌ ایران‌ | C17: =IFERROR(VLOOKUP(A17,'درآمد سود سهام'!A:S,9,0),0) -> 0 | E17: =IFERROR(VLOOKUP(A17,'درآمد ناشی از تغییر قیمت اوراق'!A:Q,9,0),0) -> 6834755760 | G17: =IFERROR(VLOOKUP(A17,'درآمد ناشی از فروش'!A:Q,9,0),0) -> 0 | I17: =C17+E17+G17 -> 6834755760 | K17: =I17/490862349834*100 -> 1.3923976 | M17: =IFERROR(VLOOKUP(A17,'درآمد سود سهام'!A:S,15,0),0) -> 2292000000 | O17: =IFERROR(VLOOKUP(A17,'درآمد ناشی از تغییر قیمت اوراق'!A:Q,17,0),0) -> 20635246920 | Q17: =IFERROR(VLOOKUP(A17,'درآمد ناشی از فروش'!A:Q,17,0),0) -> 0 | S17: =M17+O17+Q17 -> 22927246920 | U17: =S17/درآمد!$F$12*100 -> 3.0459376
A18: پالایش نفت بندرعباس | C18: =IFERROR(VLOOKUP(A18,'درآمد سود سهام'!A:S,9,0),0) -> 1664600000 | E18: =IFERROR(VLOOKUP(A18,'درآمد ناشی از تغییر قیمت اوراق'!A:Q,9,0),0) -> -1863791120 | G18: =IFERROR(VLOOKUP(A18,'درآمد ناشی از فروش'!A:Q,9,0),0) -> 0 | I18: =C18+E18+G18 -> -199191120 | K18: =I18/490862349834*100 -> -0.040579833 | M18: =IFERROR(VLOOKUP(A18,'درآمد سود سهام'!A:S,15,0),0) -> 1664600000 | O18: =IFERROR(VLOOKUP(A18,'درآمد ناشی از تغییر قیمت اوراق'!A:Q,17,0),0) -> 1283768398 | Q18: =IFERROR(VLOOKUP(A18,'درآمد ناشی از فروش'!A:Q,17,0),0) -> 0 | S18: =M18+O18+Q18 -> 2948368398 | U18: =S18/درآمد!$F$12*100 -> 0.39169754
A19: توکا رنگ فولاد سپاهان | C19: =IFERROR(VLOOKUP(A19,'درآمد سود سهام'!A:S,9,0),0) -> 0 | E19: =IFERROR(VLOOKUP(A19,'درآمد ناشی از تغییر قیمت اوراق'!A:Q,9,0),0) -> 4275285681 | G19: =IFERROR(VLOOKUP(A19,'درآمد ناشی از فروش'!A:Q,9,0),0) -> 0 | I19: =C19+E19+G19 -> 4275285681 | K19: =I19/490862349834*100 -> 0.87097446 | M19: =IFERROR(VLOOKUP(A19,'درآمد سود سهام'!A:S,15,0),0) -> 2318545000 | O19: =IFERROR(VLOOKUP(A19,'درآمد ناشی از تغییر قیمت اوراق'!A:Q,17,0),0) -> 4134058869 | Q19: =IFERROR(VLOOKUP(A19,'درآمد ناشی از فروش'!A:Q,17,0),0) -> 0 | S19: =M19+O19+Q19 -> 6452603869 | U19: =S19/درآمد!$F$12*100 -> 0.85724331
A20: گ.س.وت.ص.پتروشیمی خلیج فارس | C20: =IFERROR(VLOOKUP(A20,'درآمد سود سهام'!A:S,9,0),0) -> 0 | E20: =IFERROR(VLOOKUP(A20,'درآمد ناشی از تغییر قیمت اوراق'!A:Q,9,0),0) -> 17839054387 | G20: =IFERROR(VLOOKUP(A20,'درآمد ناشی از فروش'!A:Q,9,0),0) -> 0 | I20: =C20+E20+G20 -> 17839054387 | K20: =I20/490862349834*100 -> 3.6342275 | M20: =IFERROR(VLOOKUP(A20,'درآمد سود سهام'!A:S,15,0),0) -> 9349750355 | O20: =IFERROR(VLOOKUP(A20,'درآمد ناشی از تغییر قیمت اوراق'!A:Q,17,0),0) -> 28950024608 | Q20: =IFERROR(VLOOKUP(A20,'درآمد ناشی از فروش'!A:Q,17,0),0) -> 0 | S20: =M20+O20+Q20 -> 38299774963 | U20: =S20/درآمد!$F$12*100 -> 5.0882135
... A66: شمش طلا GoldBar | C66: =IFERROR(VLOOKUP(A66,'درآمد سود سهام'!A:S,9,0),0) -> 0 | E66: =IFERROR(VLOOKUP(A66,'درآمد ناشی از تغییر قیمت اوراق'!A:Q,9,0),0) -> 14258467859 | G66: =IFERROR(VLOOKUP(A66,'درآمد ناشی از فروش'!A:Q,9,0),0) -> 0 | I66: =C66+E66+G66 -> 14258467859 | K66: =I66/490862349834*100 -> 2.9047793 | M66: =IFERROR(VLOOKUP(A66,'درآمد سود سهام'!A:S,15,0),0) -> 0 | O66: =IFERROR(VLOOKUP(A66,'درآمد ناشی از تغییر قیمت اوراق'!A:Q,17,0),0) -> 14258467859 | Q66: =IFERROR(VLOOKUP(A66,'درآمد ناشی از فروش'!A:Q,17,0),0) -> 0 | S66: =M66+O66+Q66 -> 14258467859 | U66: =S66/درآمد!$F$12*100 -> 1.8942703
A67: اختیارخ شپنا-9000-1405/06/18 | C67: =IFERROR(VLOOKUP(A67,'درآمد سود سهام'!A:S,9,0),0) -> 0 | E67: =IFERROR(VLOOKUP(A67,'درآمد ناشی از تغییر قیمت اوراق'!A:Q,9,0),0) -> 241148652 | G67: =IFERROR(VLOOKUP(A67,'درآمد اختیار'!A:L,10,0),0) -> 0 | I67: =C67+E67+G67 -> 241148652 | K67: =I67/490862349834*100 -> 0.049127551 | M67: =IFERROR(VLOOKUP(A67,'درآمد سود سهام'!A:S,15,0),0) -> 0 | O67: =IFERROR(VLOOKUP(A67,'درآمد ناشی از تغییر قیمت اوراق'!A:Q,17,0),0) -> 241148651 | Q67: =IFERROR(VLOOKUP(A67,'درآمد اختیار'!A:L,12,0),0) -> 0 | S67: =M67+O67+Q67 -> 241148651 | U67: =S67/درآمد!$F$12*100 -> 0.032037155
A68: اختیارف وبملت-1200-1405/06/18 | C68: =IFERROR(VLOOKUP(A68,'درآمد سود سهام'!A:S,9,0),0) -> 0 | E68: =IFERROR(VLOOKUP(A68,'درآمد ناشی از تغییر قیمت اوراق'!A:Q,9,0),0) -> -312467844 | G68: =IFERROR(VLOOKUP(A68,'درآمد اختیار'!A:L,10,0),0) -> 0 | I68: =C68+E68+G68 -> -312467844 | K68: =I68/490862349834*100 -> -0.063656918 | M68: =IFERROR(VLOOKUP(A68,'درآمد سود سهام'!A:S,15,0),0) -> 0 | O68: =IFERROR(VLOOKUP(A68,'درآمد ناشی از تغییر قیمت اوراق'!A:Q,17,0),0) -> -312467844 | Q68: =IFERROR(VLOOKUP(A68,'درآمد اختیار'!A:L,12,0),0) -> 0 | S68: =M68+O68+Q68 -> -312467844 | U68: =S68/درآمد!$F$12*100 -> -0.041512074
A69: اختیارخ شستا-2200-1405/06/11 | C69: =IFERROR(VLOOKUP(A69,'درآمد سود سهام'!A:S,9,0),0) -> 0 | E69: =IFERROR(VLOOKUP(A69,'درآمد ناشی از تغییر قیمت اوراق'!A:Q,9,0),0) -> 2496870683 | G69: =IFERROR(VLOOKUP(A69,'درآمد اختیار'!A:L,10,0),0) -> 0 | I69: =C69+E69+G69 -> 2496870683 | K69: =I69/490862349834*100 -> 0.50867024 | M69: =IFERROR(VLOOKUP(A69,'درآمد سود سهام'!A:S,15,0),0) -> 0 | O69: =IFERROR(VLOOKUP(A69,'درآمد ناشی از تغییر قیمت اوراق'!A:Q,17,0),0) -> 2496870683 | Q69: =IFERROR(VLOOKUP(A69,'درآمد اختیار'!A:L,12,0),0) -> 0 | S69: =M69+O69+Q69 -> 2496870683 | U69: =S69/درآمد!$F$12*100 -> 0.33171503
A70: اختیارف شپنا-10000-1405/06/18 | C70: =IFERROR(VLOOKUP(A70,'درآمد سود سهام'!A:S,9,0),0) -> 0 | E70: =IFERROR(VLOOKUP(A70,'درآمد ناشی از تغییر قیمت اوراق'!A:Q,9,0),0) -> -27643750 | G70: =IFERROR(VLOOKUP(A70,'درآمد اختیار'!A:L,10,0),0) -> 0 | I70: =C70+E70+G70 -> -27643750 | K70: =I70/490862349834*100 -> -0.0056316705 | M70: =IFERROR(VLOOKUP(A70,'درآمد سود سهام'!A:S,15,0),0) -> 0 | O70: =IFERROR(VLOOKUP(A70,'درآمد ناشی از تغییر قیمت اوراق'!A:Q,17,0),0) -> -27643750 | Q70: =IFERROR(VLOOKUP(A70,'درآمد اختیار'!A:L,12,0),0) -> 0 | S70: =M70+O70+Q70 -> -27643750 | U70: =S70/درآمد!$F$12*100 -> -0.003672536
A71: اختیارف شستا-2400-1405/06/11 | C71: =IFERROR(VLOOKUP(A71,'درآمد سود سهام'!A:S,9,0),0) -> 0 | E71: =IFERROR(VLOOKUP(A71,'درآمد ناشی از تغییر قیمت اوراق'!A:Q,9,0),0) -> -164175817 | G71: =IFERROR(VLOOKUP(A71,'درآمد اختیار'!A:L,10,0),0) -> 0 | I71: =C71+E71+G71 -> -164175817 | K71: =I71/490862349834*100 -> -0.033446407 | M71: =IFERROR(VLOOKUP(A71,'درآمد سود سهام'!A:S,15,0),0) -> 0 | O71: =IFERROR(VLOOKUP(A71,'درآمد ناشی از تغییر قیمت اوراق'!A:Q,17,0),0) -> -164175816 | Q71: =IFERROR(VLOOKUP(A71,'درآمد اختیار'!A:L,12,0),0) -> 0 | S71: =M71+O71+Q71 -> -164175816 | U71: =S71/درآمد!$F$12*100 -> -0.021811136
A72: اختیارخ فارس-10000-1404/12/13 | C72: =IFERROR(VLOOKUP(A72,'درآمد سود سهام'!A:S,9,0),0) -> 0 | E72: =IFERROR(VLOOKUP(A72,'درآمد ناشی از تغییر قیمت اوراق'!A:Q,9,0),0) -> 0 | G72: =IFERROR(VLOOKUP(A72,'درآمد اختیار'!A:L,10,0),0) -> 0 | I72: =C72+E72+G72 -> 0 | K72: =I72/490862349834*100 -> 0 | M72: =IFERROR(VLOOKUP(A72,'درآمد سود سهام'!A:S,15,0),0) -> 0 | O72: =IFERROR(VLOOKUP(A72,'درآمد ناشی از تغییر قیمت اوراق'!A:Q,17,0),0) -> 0 | Q72: =IFERROR(VLOOKUP(A72,'درآمد اختیار'!A:L,12,0),0) -> 860979948 | S72: =M72+O72+Q72 -> 860979948 | U72: =S72/درآمد!$F$12*100 -> 0.11438317
A73: اختیارخ شستا-2000-1405/04/10 | C73: =IFERROR(VLOOKUP(A73,'درآمد سود سهام'!A:S,9,0),0) -> 0 | E73: =IFERROR(VLOOKUP(A73,'درآمد ناشی از تغییر قیمت اوراق'!A:Q,9,0),0) -> 0 | G73: =IFERROR(VLOOKUP(A73,'درآمد اختیار'!A:L,10,0),0) -> 0 | I73: =C73+E73+G73 -> 0 | K73: =I73/490862349834*100 -> 0 | M73: =IFERROR(VLOOKUP(A73,'درآمد سود سهام'!A:S,15,0),0) -> 0 | O73: =IFERROR(VLOOKUP(A73,'درآمد ناشی از تغییر قیمت اوراق'!A:Q,17,0),0) -> -1 | Q73: =IFERROR(VLOOKUP(A73,'درآمد اختیار'!A:L,12,0),0) -> 25012631 | S73: =M73+O73+Q73 -> 25012630 | U73: =S73/درآمد!$F$12*100 -> 0.0033229856
A74: اختیارخ وبصادر-600-1405/03/20 | C74: =IFERROR(VLOOKUP(A74,'درآمد سود سهام'!A:S,9,0),0) -> 0 | E74: =IFERROR(VLOOKUP(A74,'درآمد ناشی از تغییر قیمت اوراق'!A:Q,9,0),0) -> 0 | G74: =IFERROR(VLOOKUP(A74,'درآمد اختیار'!A:L,10,0),0) -> 0 | I74: =C74+E74+G74 -> 0 | K74: =I74/490862349834*100 -> 0 | M74: =IFERROR(VLOOKUP(A74,'درآمد سود سهام'!A:S,15,0),0) -> 0 | O74: =IFERROR(VLOOKUP(A74,'درآمد ناشی از تغییر قیمت اوراق'!A:Q,17,0),0) -> 0 | Q74: =IFERROR(VLOOKUP(A74,'درآمد اختیار'!A:L,12,0),0) -> 610784507 | S74: =M74+O74+Q74 -> 610784507 | U74: =S74/درآمد!$F$12*100 -> 0.081144131
A75: اختیارخ شپنا-6500-1405/04/17 | C75: =IFERROR(VLOOKUP(A75,'درآمد سود سهام'!A:S,9,0),0) -> 0 | E75: =IFERROR(VLOOKUP(A75,'درآمد ناشی از تغییر قیمت اوراق'!A:Q,9,0),0) -> 0 | G75: =IFERROR(VLOOKUP(A75,'درآمد اختیار'!A:L,10,0),0) -> 0 | I75: =C75+E75+G75 -> 0 | K75: =I75/490862349834*100 -> 0 | M75: =IFERROR(VLOOKUP(A75,'درآمد سود سهام'!A:S,15,0),0) -> 0 | O75: =IFERROR(VLOOKUP(A75,'درآمد ناشی از تغییر قیمت اوراق'!A:Q,17,0),0) -> 0 | Q75: =IFERROR(VLOOKUP(A75,'درآمد اختیار'!A:L,12,0),0) -> 1682096085 | S75: =M75+O75+Q75 -> 1682096085 | U75: =S75/درآمد!$F$12*100 -> 0.22347035
A76: اختیارخ شپنا-6000-1405/04/17 | C76: =IFERROR(VLOOKUP(A76,'درآمد سود سهام'!A:S,9,0),0) -> 0 | E76: =IFERROR(VLOOKUP(A76,'درآمد ناشی از تغییر قیمت اوراق'!A:Q,9,0),0) -> 0 | G76: =IFERROR(VLOOKUP(A76,'درآمد اختیار'!A:L,10,0),0) -> 0 | I76: =C76+E76+G76 -> 0 | K76: =I76/490862349834*100 -> 0 | M76: =IFERROR(VLOOKUP(A76,'درآمد سود سهام'!A:S,15,0),0) -> 0 | O76: =IFERROR(VLOOKUP(A76,'درآمد ناشی از تغییر قیمت اوراق'!A:Q,17,0),0) -> 0 | Q76: =IFERROR(VLOOKUP(A76,'درآمد اختیار'!A:L,12,0),0) -> -63576171 | S76: =M76+O76+Q76 -> -63576171 | U76: =S76/درآمد!$F$12*100 -> -0.008446241
A77: اختیارخ وبصادر-600-1405/05/20 | C77: =IFERROR(VLOOKUP(A77,'درآمد سود سهام'!A:S,9,0),0) -> 0 | E77: =IFERROR(VLOOKUP(A77,'درآمد ناشی از تغییر قیمت اوراق'!A:Q,9,0),0) -> -3698190333 | G77: =IFERROR(VLOOKUP(A77,'درآمد اختیار'!A:L,10,0),0) -> 3813160132 | I77: =C77+E77+G77 -> 114969799 | K77: =I77/490862349834*100 -> 0.023422004 | M77: =IFERROR(VLOOKUP(A77,'درآمد سود سهام'!A:S,15,0),0) -> 0 | O77: =IFERROR(VLOOKUP(A77,'درآمد ناشی از تغییر قیمت اوراق'!A:Q,17,0),0) -> 0 | Q77: =IFERROR(VLOOKUP(A77,'درآمد اختیار'!A:L,12,0),0) -> 3813160132 | S77: =M77+O77+Q77 -> 3813160132 | U77: =S77/درآمد!$F$12*100 -> 0.50658712
A78: اختیارخ وبصادر-550-1405/05/20 | C78: =IFERROR(VLOOKUP(A78,'درآمد سود سهام'!A:S,9,0),0) -> 0 | E78: =IFERROR(VLOOKUP(A78,'درآمد ناشی از تغییر قیمت اوراق'!A:Q,9,0),0) -> -336829000 | G78: =IFERROR(VLOOKUP(A78,'درآمد اختیار'!A:L,10,0),0) -> 23983000 | I78: =C78+E78+G78 -> -312846000 | K78: =I78/490862349834*100 -> -0.063733957 | M78: =IFERROR(VLOOKUP(A78,'درآمد سود سهام'!A:S,15,0),0) -> 0 | O78: =IFERROR(VLOOKUP(A78,'درآمد ناشی از تغییر قیمت اوراق'!A:Q,17,0),0) -> 0 | Q78: =IFERROR(VLOOKUP(A78,'درآمد اختیار'!A:L,12,0),0) -> 23983000 | S78: =M78+O78+Q78 -> 23983000 | U78: =S78/درآمد!$F$12*100 -> 0.0031861969
... A80: اختیارخ فملی-18000-1405/05/14 | C80: =IFERROR(VLOOKUP(A80,'درآمد سود سهام'!A:S,9,0),0) -> 0 | E80: =IFERROR(VLOOKUP(A80,'درآمد ناشی از تغییر قیمت اوراق'!A:Q,9,0),0) -> 7583875213 | G80: =IFERROR(VLOOKUP(A80,'درآمد اختیار'!A:L,10,0),0) -> -8789701500 | I80: =C80+E80+G80 -> -1205826287 | K80: =I80/490862349834*100 -> -0.24565467 | M80: =IFERROR(VLOOKUP(A80,'درآمد سود سهام'!A:S,15,0),0) -> 0 | O80: =IFERROR(VLOOKUP(A80,'درآمد ناشی از تغییر قیمت اوراق'!A:Q,17,0),0) -> 0 | Q80: =IFERROR(VLOOKUP(A80,'درآمد اختیار'!A:L,12,0),0) -> -8668969170 | S80: =M80+O80+Q80 -> -8668969170 | U80: =S80/درآمد!$F$12*100 -> -1.1516926
C81: =SUM(C9:C80) -> 17090970345 | E81: =SUM(E9:E80) -> 452372124361 | G81: =SUM(G9:G80) -> 9578383513 | I81: =SUM(I9:I80) -> 479041478219 | K81: =SUM(K9:K80) -> 97.591815 | M81: =SUM(M9:M80) -> 110233165258 | O81: =SUM(O9:O80) -> 532614249665 | Q81: =SUM(Q9:Q80) -> 70297206216 | S81: =SUM(S9:S80) -> 713144621139 | U81: =SUM(U9:U80) -> 94.742908

Sheet درآمد سرمایه گذاری در اوراق
A1: =سهام!A1 -> صندوق سرمایه‌گذاری افق دماوند
A2: صورت وضعیت درآمدها
A3: =سهام!A3 -> برای ماه منتهی به 1405/05/31
A5: 2-2-درآمد حاصل از سرمایه­گذاری در اوراق بهادار با درآمد ثابت:
C6: طی ماه | K6: از ابتدای سال مالی
A8: عنوان | C8: درآمد سود اوراق | E8: درآمد تغییر ارزش | G8: درآمد فروش | I8: جمع | K8: درآمد سود اوراق | M8: درآمد تغییر ارزش | O8: درآمد فروش | Q8: جمع
A9: صکوک مرابحه اندیمشک07-6ماهه23% | C9: =VLOOKUP(A9,'سود اوراق بهادار'!A:Q,7,0) -> 10822375191 | E9: ='درآمد ناشی از تغییر قیمت اوراق'!I56 -> 637926862 | G9: ='درآمد ناشی از فروش'!I34 -> -316298737 | I9: =C9+E9+G9 -> 11144003316 | K9: ='سود اوراق بهادار'!Q8 -> 38219817098 | M9: 0 | O9: ='درآمد ناشی از فروش'!Q34 -> -226096875 | Q9: =K9+M9+O9 -> 37993720223
C10: =SUM(C9:C9) -> 10822375191 | E10: =SUM(E9:E9) -> 637926862 | G10: =SUM(G9:G9) -> -316298737 | I10: =SUM(I9:I9) -> 11144003316 | K10: =SUM(K9:K9) -> 38219817098 | M10: =SUM(M9:M9) -> 0 | O10: =SUM(O9:O9) -> -226096875 | Q10: =SUM(Q9:Q9) -> 37993720223

Sheet سود ترجیحی
A1: ='درآمد ناشی از تغییر قیمت اوراق'!A1:Q1 -> صندوق سرمایه‌گذاری افق دماوند
A2: صورت وضعیت درآمدها
A3: =سهام!A3 -> برای ماه منتهی به 1405/05/31
A6: جزئیات قراردادهای خرید و نگهداری اوراق بهادار با درآمد ثابت
A8: طرف معامله | B8: نوع وابستگی | C8: نام ورقه بهادار | D8: تعداد اوراق(طبق قرارداد) | E8: بهای تمام شده اوراق | F8: مبلغ شناسایی شده بابت قرارداد خرید و نگهداری اوراق بهادار | G8: نرخ اسمی(درصد) | H8: میانگین نرخ بازده تا سررسید قراردادهای منعقده(درصد)
A9: تأمین سرمایه دماوند | B9: مدیر صندوق | C9: صکوک مرابحه اندیمشک07-6ماهه23% | D9: 175000 | E9: =D9*1000000 -> 175000000000 | F9: 2854093553 | G9: 23 | H9: 33
D10: =SUM(D9) -> 175000 | E10: =SUM(E9) -> 175000000000 | F10: =SUM(F9) -> 2854093553

Sheet درآمد سپرده بانکی
A1: =سهام!A1 -> صندوق سرمایه‌گذاری افق دماوند
A2: صورت وضعیت درآمدها
A3: =سهام!A3 -> برای ماه منتهی به 1405/05/31
A5: 3-2-درآمد حاصل از سرمایه­گذاری در سپرده بانکی و گواهی سپرده
C6: طی ماه | G6: از ابتدای سال مالی
A7: نام سپرده بانکی | C7: سود سپرده بانکی و گواهی سپرده | E7: درصد سود به میانگین سپرده | G7: سود سپرده بانکی و گواهی سپرده | I7: درصد سود به میانگین سپرده
A8: سپرده کوتاه مدت بانک سینا | C8: ='سود سپرده بانکی'!C8 -> 0 | E8: =C8/$C$12*100 -> 0 | G8: ='سود سپرده بانکی'!I8 -> 245778 | I8: =G8/$G$12*100 -> 17.134718
A9: سپرده کوتاه مدت بانک پاسارگاد | C9: ='سود سپرده بانکی'!C9 -> 33018 | E9: =C9/$C$12*100 -> 91.066553 | G9: ='سود سپرده بانکی'!I9 -> 1183324 | I9: =G9/$G$12*100 -> 82.496901
A10: سپرده کوتاه مدت بانک صادرات | C10: ='سود سپرده بانکی'!C10 -> 0 | E10: =C10/$C$12*100 -> 0 | G10: ='سود سپرده بانکی'!I10 -> 2045 | I10: =G10/$G$12*100 -> 0.14256971
A11: سپرده کوتاه مدت بانک گردشگری | C11: ='سود سپرده بانکی'!C11 -> 3239 | E11: =C11/$C$12*100 -> 8.9334473 | G11: ='سود سپرده بانکی'!I11 -> 3239 | I11: =G11/$G$12*100 -> 0.2258109
C12: =SUM(C8:C11) -> 36257 | E12: =SUM(E8:E11) -> 100 | G12: =SUM(G8:G11) -> 1434386 | I12: =SUM(I8:I10) -> 99.774189

Sheet سایر درآمدها
A1: =سهام!A1 -> صندوق سرمایه‌گذاری افق دماوند
A2: صورت وضعیت درآمدها
A3: =سهام!A3 -> برای ماه منتهی به 1405/05/31
A5: 4-2-سایر درآمدها
C6: طی ماه | E6: 1405/05/31
A7: سایر درآمدها | C7: مبلغ | E7: مبلغ
A8: سایر درآمدها | C8: 0 | E8: 151318019
A9: تعدیل کارمزد کارگزار | C9: 676832042 | E9: 1424477116
C10: =SUM(C8:C9) -> 676832042 | E10: =SUM(E8:E9) -> 1575795135

Sheet درآمد سود سهام
A1: =سهام!A1 -> صندوق سرمایه‌گذاری افق دماوند
A2: صورت وضعیت درآمدها
A3: =سهام!A3 -> برای ماه منتهی به 1405/05/31
A5: درآمد سود سهام
A6: نام سهام | C6: اطلاعات مجمع | I6: طی ماه | O6: از ابتدای سال مالی
C7: تاریخ تشکیل مجمع | E7: تعداد سهام متعلقه در زمان مجمع | G7: سود متعلق به هر سهم | I7: جمع درآمد سود سهام | K7: هزینه تنزیل | M7: خالص درآمد سود سهام | O7: جمع درآمد سود سهام | Q7: هزینه تنزیل | S7: خالص درآمد سود سهام
A8: سرمایه‌گذاری صنایع پتروشیمی‌ | C8: 1405/05/31 | E8: 198243 | G8: 5500 | I8: 1090336500 | K8: -77683008 | M8: =I8+K8 -> 1012653492 | O8: 1090336500 | Q8: -77683008 | S8: =O8+Q8 -> 1012653492
A9: ملی‌ صنایع‌ مس‌ ایران‌ | C9: 1405/04/31 | E9: 5280000 | G9: 450 | I9: 2376000000 | K9: -139404255 | M9: =I9+K9 -> 2236595745 | O9: 2376000000 | Q9: -139404255 | S9: =O9+Q9 -> 2236595745
A10: پتروشیمی‌شیراز | C10: 1405/03/27 | E10: 1019446 | G10: 6928 | I10: 0 | K10: 0 | M10: =I10+K10 -> 0 | O10: 7062721888 | Q10: -202060573 | S10: =O10+Q10 -> 6860661315
A11: دوده‌ صنعتی‌ پارس‌ | C11: 1405/03/16 | E11: 375619 | G11: 850 | I11: 0 | K11: 0 | M11: =I11+K11 -> 0 | O11: 319276150 | Q11: -9957518 | S11: =O11+Q11 -> 309318632
A12: پالایش نفت اصفهان | C12: 1405/04/30 | E12: 829410 | G12: 740 | I12: 0 | K12: 0 | M12: =I12+K12 -> 0 | O12: 613763400 | Q12: -6653262 | S12: =O12+Q12 -> 607110138
A13: پتروشیمی فناوران | C13: 1405/04/31 | E13: 2983927 | G13: 485 | I13: 1447204595 | K13: -30089432 | M13: =I13+K13 -> 1417115163 | O13: 1447204595 | Q13: -30089432 | S13: =O13+Q13 -> 1417115163
A14: پتروشیمی‌ خارک‌ | C14: 1405/03/24 | E14: 138131 | G14: 7500 | I14: 0 | K14: 0 | M14: =I14+K14 -> 0 | O14: 1035982500 | Q14: 0 | S14: =O14+Q14 -> 1035982500
A15: پتروشیمی شازند | C15: 1405/04/25 | E15: 3373729 | G15: 1100 | I15: 0 | K15: 0 | M15: =I15+K15 -> 0 | O15: 3711101900 | Q15: 0 | S15: =O15+Q15 -> 3711101900
A16: کربن‌ ایران‌ | C16: 1405/04/21 | E16: 1761676 | G16: 1565 | I16: 0 | K16: 0 | M16: =I16+K16 -> 0 | O16: 2757022940 | Q16: -144918143 | S16: =O16+Q16 -> 2612104797
A17: معدنی‌ املاح‌ ایران‌ | C17: 1405/03/24 | E17: 1200000 | G17: 1910 | I17: 0 | K17: 0 | M17: =I17+K17 -> 0 | O17: 2292000000 | Q17: -80288169 | S17: =O17+Q17 -> 2211711831
A18: پالایش نفت بندرعباس | C18: 1405/05/18 | E18: 1400000 | G18: 1189 | I18: 1664600000 | K18: -95641963 | M18: =I18+K18 -> 1568958037 | O18: 1664600000 | Q18: -95641963 | S18: =O18+Q18 -> 1568958037
A19: تولیدات پتروشیمی قائد بصیر | C19: 1405/04/07 | E19: 6054099 | G19: 1600 | I19: 0 | K19: 0 | M19: =I19+K19 -> 0 | O19: 9686558400 | Q19: 0 | S19: =O19+Q19 -> 9686558400
... A31: کولان سل | C31: 1405/04/10 | E31: 219000 | G31: 1177 | I31: 0 | K31: 0 | M31: =I31+K31 -> 0 | O31: 257763000 | Q31: 0 | S31: =O31+Q31 -> 257763000
I32: =SUM(I8:I31) -> 17090970345 | K32: =SUM(K8:K31) -> -1773558733 | M32: =SUM(M8:M31) -> 15317411612 | O32: =SUM(O8:O31) -> 110233165258 | Q32: =SUM(Q8:Q31) -> -3752918438 | S32: =SUM(S8:S31) -> 106480246820

Sheet سود اوراق بهادار
A1: =سهام!A1 -> صندوق سرمایه‌گذاری افق دماوند
A2: صورت وضعیت درآمدها
A3: =سهام!A3 -> برای ماه منتهی به 1405/05/31
A5: سود اوراق بهادار با درآمد ثابت
A6: شرح | C6: طی ماه | M6: از ابتدای سال مالی
C7: تاریخ سررسید | E7: نرخ سود علی الحساب | G7: درآمد سود | I7: هزینه تنزیل | K7: خالص درآمد | M7: درآمد سود | O7: هزینه تنزیل | Q7: خالص درآمد
A8: صکوک مرابحه اندیمشک07-6ماهه23% | C8: 1407/10/06 | E8: 23 | G8: 10822375191 | I8: 0 | K8: =G8+I8 -> 10822375191 | M8: 38219817098 | O8: 0 | Q8: =M8+O8 -> 38219817098
G9: =SUM(G8:G8) -> 10822375191 | I9: =SUM(I8:I8) -> 0 | K9: =SUM(K8:K8) -> 10822375191 | M9: =SUM(M8:M8) -> 38219817098 | O9: =SUM(O8:O8) -> 0 | Q9: =SUM(Q8:Q8) -> 38219817098

Sheet سود سپرده بانکی
A1: =سهام!A1 -> صندوق سرمایه‌گذاری افق دماوند
A2: صورت وضعیت درآمدها
A3: =سهام!A3 -> برای ماه منتهی به 1405/05/31
A5: سود سپرده بانکی
A6: شرح | C6: طی ماه | I6: از ابتدای سال مالی
C7: درآمد سود | E7: هزینه تنزیل | G7: خالص درآمد | I7: درآمد سود | K7: هزینه تنزیل | M7: خالص درآمد
A8: سپرده کوتاه مدت بانک سینا | C8: 0 | E8: 0 | G8: =C8+E8 -> 0 | I8: 245778 | K8: 0 | M8: =I8+K8 -> 245778
A9: سپرده کوتاه مدت بانک پاسارگاد | C9: 33018 | E9: 0 | G9: =C9+E9 -> 33018 | I9: 1183324 | K9: 0 | M9: =I9+K9 -> 1183324
A10: سپرده کوتاه مدت بانک صادرات | C10: 0 | E10: 0 | G10: =C10+E10 -> 0 | I10: 2045 | K10: 0 | M10: =I10+K10 -> 2045
A11: سپرده کوتاه مدت بانک گردشگری | C11: 3239 | E11: 0 | G11: =C11+E11 -> 3239 | I11: 3239 | K11: 0 | M11: =I11+K11 -> 3239
C12: =SUM(C8:C11) -> 36257 | E12: =SUM(E8:E11) -> 0 | G12: =SUM(G8:G11) -> 36257 | I12: =SUM(I8:I11) -> 1434386 | K12: =SUM(K8:K11) -> 0 | M12: =SUM(M8:M10) -> 1431147

Sheet درآمد ناشی از فروش
A1: =سهام!A1 -> صندوق سرمایه‌گذاری افق دماوند
A2: صورت وضعیت درآمدها
A3: =سهام!A3 -> برای ماه منتهی به 1405/05/31
A5: سود(زیان) حاصل از فروش اوراق بهادار
A6: شرح | C6: طی ماه | K6: از ابتدای سال مالی
C7: تعداد | E7: خالص بهای فروش | G7: ارزش دفتری | I7: سود و زیان ناشی از فروش | K7: تعداد | M7: خالص بهای فروش | O7: ارزش دفتری | Q7: سود و زیان ناشی از فروش
A8: ملی‌ صنایع‌ مس‌ ایران‌ | C8: 1 | E8: 1 | G8: 13919 | I8: =E8-G8 -> -13918 | K8: 1 | M8: 1 | O8: 13919 | Q8: =M8-O8 -> -13918
A9: شیرپاستوریزه‌پگاه‌اصفهان‌ | C9: 100000 | E9: 2028199896 | G9: 1361544015 | I9: =E9-G9 -> 666655881 | K9: 100000 | M9: 2028199896 | O9: 1361544015 | Q9: =M9-O9 -> 666655881
A10: کلر پارس | C10: 197592 | E10: 1860653212 | G10: 1416990290 | I10: =E10-G10 -> 443662922 | K10: 197592 | M10: 1860653212 | O10: 1416990290 | Q10: =M10-O10 -> 443662922
A11: ح . گلتاش‌ | C11: 1 | E11: 1 | G11: 527 | I11: =E11-G11 -> -526 | K11: 1 | M11: 1 | O11: 527 | Q11: =M11-O11 -> -526
A12: شرکت خمیرمایه رضوی | C12: 1000000 | E12: 20483429688 | G12: 19963494684 | I12: =E12-G12 -> 519935004 | K12: 1000000 | M12: 20483429688 | O12: 19963494684 | Q12: =M12-O12 -> 519935004
A13: گلتاش‌ | C13: 8628591 | E13: 24397688623 | G13: 11554669808 | I13: =E13-G13 -> 12843018815 | K13: 8628591 | M13: 24397688623 | O13: 11554669808 | Q13: =M13-O13 -> 12843018815
A14: پتروشیمی جم پیلن | C14: 0 | E14: 0 | G14: 0 | I14: =E14-G14 -> 0 | K14: 160686 | M14: 23659954428 | O14: 30862599493 | Q14: =M14-O14 -> -7202645065
A15: پلیمر آریا ساسول | C15: 0 | E15: 0 | G15: 0 | I15: =E15-G15 -> 0 | K15: 150000 | M15: 5172229823 | O15: 5221218985 | Q15: =M15-O15 -> -48989162
A16: پتروشیمی امیرکبیر | C16: 0 | E16: 0 | G16: 0 | I16: =E16-G16 -> 0 | K16: 147597 | M16: 19296084085 | O16: 21041873414 | Q16: =M16-O16 -> -1745789329
A17: بورس کالای ایران | C17: 0 | E17: 0 | G17: 0 | I17: =E17-G17 -> 0 | K17: 600000 | M17: 4834339474 | O17: 4672854923 | Q17: =M17-O17 -> 161484551
A18: پتروشیمی نوری | C18: 0 | E18: 0 | G18: 0 | I18: =E18-G18 -> 0 | K18: 1125601 | M18: 68393070510 | O18: 50397848114 | Q18: =M18-O18 -> 17995222396
A19: سرمایه‌ گذاری‌ البرز(هلدینگ‌ | C19: 0 | E19: 0 | G19: 0 | I19: =E19-G19 -> 0 | K19: 1200000 | M19: 3610275192 | O19: 3475584244 | Q19: =M19-O19 -> 134690948
... A34: صکوک مرابحه اندیمشک07-6ماهه23% | C34: 620500 | E34: 620176103125 | G34: 620492401862 | I34: =E34-G34 -> -316298737 | K34: 841300 | M34: 840856568125 | O34: 841082665000 | Q34: =M34-O34 -> -226096875
E35: =SUM(E8:E34) -> 668946074546 | G35: =SUM(G8:G34) -> 654789115105 | I35: =SUM(I8:I34) -> 14156959441 | M35: =SUM(M8:M34) -> 1568977563281 | O35: 1497247608605 | Q35: =M35-O35 -> 71729954676

Sheet درآمد  اختیار
A1: =سهام!A1 -> صندوق سرمایه‌گذاری افق دماوند
A2: صورت وضعیت درآمدها
A3: =سهام!A3 -> برای ماه منتهی به 1405/05/31
A5: سود (زیان) ناشی از اعمال اختیار معامله سهام
B7: طی ماه | L7: از ابتدای سال مالی
A8: نام اختیار | B8: تاریخ اعمال | D8: تعداد | F8: کارمزد اعمال | H8: مالیات اعمال | J8: سود(زیان)اعمال | L8: سود(زیان)اعمال
A9: اختیارخ فارس-10000-1404/12/13 | B9: 1404/12/13 | D9: 0 | E9: 0 | F9: 0 | G9: 0 | H9: 0 | I9: 0 | J9: 0 | L9: 860979948
A10: اختیارخ شستا-2000-1405/04/10 | B10: 1405/04/10 | D10: 0 | E10: 0 | F10: 0 | G10: 0 | H10: 0 | I10: 0 | J10: 0 | L10: 25012631
A11: اختیارخ وبصادر-600-1405/03/20 | B11: 1405/03/20 | D11: 0 | F11: 0 | H11: 0 | J11: 0 | L11: 610784507
A12: اختیارخ شپنا-6500-1405/04/17 | B12: 1405/04/17 | D12: 0 | F12: 0 | H12: 0 | J12: 0 | L12: 1682096085
A13: اختیارخ شپنا-6000-1405/04/17 | B13: 1405/04/17 | D13: 0 | F13: 0 | H13: 0 | J13: 0 | L13: -63576171
A14: اختیارخ وبصادر-600-1405/05/20 | B14: 1405/05/20 | D14: 35961000 | F14: -952168 | H14: 0 | J14: 3813160132 | L14: 3813160132
A15: اختیارخ وبصادر-550-1405/05/20 | B15: 1405/05/20 | D15: 4000000 | F15: -540000 | H15: 0 | J15: 23983000 | L15: 23983000
A16: اختیارخ فملی-22000-1405/05/14 | B16: 1405/05/14 | D16: 24678000 | F16: -12863294 | H16: 0 | J16: 57683703 | L16: 57683703
A17: اختیارخ فملی-18000-1405/05/14 | B17: 1405/05/14 | D17: 8777142 | F17: -23895896 | H17: 0 | J17: -8789701500 | L17: -8668969170
F18: =SUM(F9:F17) -> -38251358 | H18: =SUM(H9:H17) -> 0 | J18: =SUM(J9:J17) -> -4894874665 | L18: =SUM(L9:L17) -> -1658845335

Sheet درآمد ناشی از تغییر قیمت اوراق
A1: =سهام!A1 -> صندوق سرمایه‌گذاری افق دماوند
A2: صورت وضعیت درآمدها
A3: =سهام!A3 -> برای ماه منتهی به 1405/05/31
A5: درآمد ناشی از تغییر قیمت اوراق بهادار
A6: شرح | C6: طی ماه | K6: از ابتدای سال مالی
C7: تعداد | E7: خالص ارزش فروش | G7: ارزش دفتری | I7: سود و زیان ناشی از تغییر قیمت | K7: تعداد | M7: خالص ارزش فروش | O7: ارزش دفتری | Q7: سود و زیان ناشی از تغییر قیمت
A8: سرمایه‌گذاری صنایع پتروشیمی‌ | C8: 198243 | E8: 10405989767 | G8: 7917600909 | I8: 2488388858 | K8: 198243 | M8: 10405989767 | O8: 7451396831 | Q8: 2954592936
A9: ملی‌ صنایع‌ مس‌ ایران‌ | C9: 14119999 | E9: 269708889598 | G9: 220875881898 | I9: 48833007700 | K9: 14119999 | M9: 269708889598 | O9: 210609558390 | Q9: 59099331208
A10: گلتاش‌ | C10: 5144153 | E10: 13511316881 | G10: 20358471359 | I10: -6847154478 | K10: 5144153 | M10: 13511316881 | O10: 7001919852 | Q10: 6509397029
A11: پتروشیمی‌شیراز | C11: 1019446 | E11: 61978629361 | G11: 62120248557 | I11: -141619196 | K11: 1019446 | M11: 61978629361 | O11: 61432383893 | Q11: 546245468
A12: سیمان‌ خزر | C12: 1500000 | E12: 8096923200 | G12: 6906199200 | I12: 1190724000 | K12: 1500000 | M12: 8096923200 | O12: 6346863120 | Q12: 1750060080
A13: ح . گلتاش‌ | C13: 20000000 | E13: 26434072800 | G13: 20600027161 | I13: 5834045639 | K13: 20000000 | M13: 26434072800 | O13: 20600027161 | Q13: 5834045639
A14: سیمان‌هگمتان‌ | C14: 30000 | E14: 3968087730 | G14: 3741850170 | I14: 226237560 | K14: 30000 | M14: 3968087730 | O14: 3600566424 | Q14: 367521306
A15: دوده‌ صنعتی‌ پارس‌ | C15: 375619 | E15: 2575463864 | G15: 1830032933 | I15: 745430931 | K15: 375619 | M15: 2575463864 | O15: 1549378188 | Q15: 1026085676
A16: سیمان‌غرب‌ | C16: 1200000 | E16: 9501977520 | G16: 8739914160 | I16: 762063360 | K16: 1200000 | M16: 9501977520 | O16: 8013290658 | Q16: 1488686862
A17: نیروکلر | C17: 1043418 | E17: 24320427379 | G17: 19537099389 | I17: 4783327990 | K17: 1043418 | M17: 24320427379 | O17: 12724480736 | Q17: 11595946643
A18: پالایش نفت اصفهان | C18: 26000871 | E18: 291538692219 | G18: 300464335963 | I18: -8925643744 | K18: 26000871 | M18: 291538692219 | O18: 298539809986 | Q18: -7001117767
A19: پتروشیمی فناوران | C19: 2983927 | E19: 16758474642 | G19: 13294266986 | I19: 3464207656 | K19: 2983927 | M19: 16758474642 | O19: 12169139714 | Q19: 4589334928
... A65: اختیارخ شستا-2000-1405/04/10 | C65: 0 | E65: 0 | G65: 0 | I65: 0 | K65: 0 | M65: 0 | O65: 1 | Q65: -1
E66: =SUM(E8:E65) -> 3930755969202 | G66: =SUM(G8:G65) -> 3477745917979 | I66: =SUM(I8:I65) -> 453010051223 | M66: =SUM(M8:M65) -> 3276703571739 | O66: =SUM(O8:O65) -> 2744089322074 | Q66: =SUM(Q8:Q65) -> 532614249665
