Workbook

Sheet صورت وضعیت پرتفوی
A24: صندوق سرمایه گذاری بخشی افق دماوند
A25: گزارش افشا پرتفوی ماهانه
A26: در اجرای ابلاغیه شماره 12020093 مورخ 1396/09/05 سازمان بورس اوراق بهادار
A27: ‫دوره یک ماهه منتهی 30 مهر 1405
A36: .

Sheet سهام
A1: صندوق سرمایه‌گذاری بخشی افق دماوند
A2: صورت وضعیت پرتفوی
A3: به تاریخ 30 مهر 1405
A5: 1- سرمایه‌گذاری‌ها
A6: 1-1- سرمایه‌گذاری در سهام, حق تقدم سهام و گواهی سپرده‌های کالایی
C7: (مبالغ به ریال)
C8: 1405/06/31 | I8: تغییرات طی دوره | Q8: 1405/07/30
A9: نام شرکت | C9: تعداد | E9: بهای تمام شده | G9: خالص ارزش فروش | I9: خرید طی دوره | M9: فروش طی دوره | Q9: تعداد | S9: قیمت بازار هر سهم | U9: بهای تمام شده | W9: خالص ارزش فروش | Y9: درصد به کل دارایی‌ها
I10: تعداد | K10: بهای تمام شده | M10: تعداد | O10: مبلغ فروش
A11: صنایع پتروشیمی خلیج فارس | C11: 44398480 | E11: 322305916996 | G11: 548047680085 | I11: 0 | K11: 0 | M11: -700000 | O11: -8738921944 | Q11: =C11+I11+M11 -> 43698480 | S11: 15980 | U11: 317224343438 | W11: 692903838178 | Y11: =W11/$AA$11*100 -> 13.683251 | AA11: 5063883035702
A12: ملی‌ صنایع‌ مس‌ ایران‌ | C12: 14119999 | E12: 210609558390 | G12: 338502170010 | I12: 0 | K12: 0 | M12: -100000 | O12: -2939103746 | Q12: =C12+I12+M12 -> 14019999 | S12: 28890 | U12: 209117989174 | W12: 401906829139 | Y12: =W12/$AA$11*100 -> 7.9367321
A13: پالایش نفت اصفهان | C13: 34197871 | E13: 412593933596 | G13: 420096995639 | I13: 0 | K13: 0 | M13: -5400000 | O13: -70051285665 | Q13: =C13+I13+M13 -> 28797871 | S13: 13720 | U13: 347443467313 | W13: 392052614632 | Y13: =W13/$AA$11*100 -> 7.7421341
A14: س. نفت و گاز و پتروشیمی تأمین | C14: 8051512 | E14: 178189848744 | G14: 371900695959 | I14: 711614 | K14: 37455107582 | M14: -270000 | O14: -13775486032 | Q14: =C14+I14+M14 -> 8493126 | S14: 44700 | U14: 209669524733 | W14: 376708093880 | Y14: =W14/$AA$11*100 -> 7.4391152
A15: گسترش نفت و گاز پارسیان | C15: 12299785 | E15: 296364465607 | G15: 415570295889 | I15: 0 | K15: 0 | M15: -1923200 | O15: -66688919294 | Q15: =C15+I15+M15 -> 10376585 | S15: 36080 | U15: 250024782414 | W15: 371493173846 | Y15: =W15/$AA$11*100 -> 7.3361326
A16: صنایع شیمیایی کیمیاگران امروز | C16: 20512437 | E16: 61306957731 | G16: 203131681102 | I16: 0 | K16: 0 | M16: 0 | O16: 0 | Q16: =C16+I16+M16 -> 20512437 | S16: 14070 | U16: 61306957731 | W16: 286379033378 | Y16: =W16/$AA$11*100 -> 5.6553248
A17: پتروشیمی پردیس | C17: 16192687 | E17: 120014482426 | G17: 215786760421 | I17: 0 | K17: 0 | M17: -300000 | O17: -3569195210 | Q17: =C17+I17+M17 -> 15892687 | S17: 12480 | U17: 117790988281 | W17: 196807559888 | Y17: =W17/$AA$11*100 -> 3.886495
A18: پتروشیمی نوری | C18: 4638968 | E18: 92004471139 | G18: 235495045049 | I18: 0 | K18: 0 | M18: -60000 | O18: -2874407766 | Q18: =C18+I18+M18 -> 4578968 | S18: 42770 | U18: 90814493481 | W18: 194328599133 | Y18: =W18/$AA$11*100 -> 3.8375412
A19: شمش طلا GoldBar | C19: 5343 | E19: 134986482541 | G19: 169339716936 | I19: 0 | K19: 0 | M19: 0 | O19: 0 | Q19: =C19+I19+M19 -> 5343 | S19: 35880000 | U19: 134986482541 | W19: 191246743584 | Y19: =W19/$AA$11*100 -> 3.7766817
A20: پتروشیمی شازند | C20: 3373729 | E20: 37744429782 | G20: 94771973618 | I20: 1349833 | K20: 42277062866 | M20: 0 | O20: 0 | Q20: =C20+I20+M20 -> 4723562 | S20: 35090 | U20: 80021492648 | W20: 164468544698 | Y20: =W20/$AA$11*100 -> 3.2478741
A21: سرمایه گذاری تامین اجتماعی | C21: 36749000 | E21: 105043129744 | G21: 129085853014 | I21: 0 | K21: 0 | M21: 0 | O21: 0 | Q21: =C21+I21+M21 -> 36749000 | S21: 3530 | U21: 105043129744 | W21: 128721203711 | Y21: =W21/$AA$11*100 -> 2.5419466
A22: کلر پارس | C22: 8849078 | E22: 40987119735 | G22: 93689798270 | I22: 0 | K22: 0 | M22: -100000 | O22: -1313765480 | Q22: =C22+I22+M22 -> 8749078 | S22: 13730 | U22: 40523940184 | W22: 119196275919 | Y22: =W22/$AA$11*100 -> 2.3538513
A23: گ.س.وت.ص.پتروشیمی خلیج فارس | C23: 38955535 | E23: 76270893673 | G23: 95940242429 | I23: 0 | K23: 0 | M23: -2000000 | O23: -4871053455 | Q23: =C23+I23+M23 -> 36955535 | S23: 2872 | U23: 72355101287 | W23: 105315862947 | Y23: =W23/$AA$11*100 -> 2.0797452
... A74: فنرسازی زر گلپایگان | C74: 900000 | E74: 3193220610 | G74: 4938527790 | I74: 0 | K74: 0 | M74: -900000 | O74: -5277884221 | Q74: =C74+I74+M74 -> 0 | S74: 0 | U74: 0 | W74: 0 | Y74: =W74/$AA$11*100 -> 0
C75: =SUM(C11:C74) -> 349524313 | E75: =SUM(E11:E74) -> 2825362168292 | G75: =SUM(G11:G74) -> 4383417227166 | I75: =SUM(I11:I74) -> 29097280 | K75: =SUM(K11:K74) -> 280950171317 | M75: =SUM(M11:M74) -> -39668803 | O75: =SUM(O11:O74) -> -286133147477 | Q75: =SUM(Q11:Q74) -> 338952790 | U75: =SUM(U11:U74) -> 2894180389967 | W75: =SUM(W11:W74) -> 5024711219891 | Y75: =SUM(X11:Y74) -> 99.226447
E77: 2825362168292 | G77: 4383417227166 | I77: 29097280 | K77: 280950171317 | M77: -39668803 | O77: -286133147477 | Q77: =C75+I75+M75 -> 338952790 | U77: 2744197531592 | W77: 5024711219891 | Y77: 95.08
E78: =E77-E75 -> 0 | G78: =G77-G75 -> 0 | I78: =I77-I75 -> 0 | K78: =K77-K75 -> 0 | M78: =M77-M75 -> 0 | O78: =O77-O75 -> 0 | Q78: =Q77-Q75 -> 0 | U78: 149982858375 | W78: =W77-W75 -> 0 | Y78: 4.15
U79: =SUM(U77:U78) -> 2894180389967 | Y79: =SUM(Y77:Y78) -> 99.23
U80: =U79-U75 -> 0 | Y80: =Y79-Y75 -> 0.0035529343

Sheet اوراق مشتقه
A1: =سهام!A1 -> صندوق سرمایه‌گذاری بخشی افق دماوند
A2: =سهام!A2 -> صورت وضعیت پرتفوی
A3: =سهام!A3 -> به تاریخ 30 مهر 1405
A5: اطلاعات آماری مرتبط با موقعیت‌های اخذ شده در اوراق اختیار معامله توسط صندوق سرمایه‌گذاری
C6: (مبالغ به ریال)
C7: =سهام!C8 -> 1405/06/31 | M7: =سهام!Q8 -> 1405/07/30
A8: نام اختیار معاملات سهام | C8: نوع اختیار | E8: نوع موقعیت | G8: تعداد اوراق | I8: قیمت اعمال | K8: تاریخ اعمال | M8: نوع اختیار | O8: نوع موقعیت | Q8: تعداد اوراق | S8: قیمت اعمال | U8: تاریخ اعمال
A9: اختیارخ شپنا-14000-1405/08/20 | C9: - | E9: - | G9: 0 | I9: 0 | K9: - | M9: اختیار خرید | O9: موقعیت فروش | Q9: 1000000 | S9: 14000 | U9: 1405/08/20
A10: اختیارخ شپنا-13000-1405/08/20 | C10: - | E10: - | G10: 0 | I10: 0 | K10: - | M10: اختیار خرید | O10: موقعیت فروش | Q10: 1000000 | S10: 13000 | U10: 1405/08/20
A11: اختیارخ تاپیکو-50000-05/08/13 | C11: - | E11: - | G11: 0 | I11: 0 | K11: - | M11: اختیار خرید | O11: موقعیت فروش | Q11: 799000 | S11: 50000 | U11: 1405/08/13
A12: اختیارخ تابان-18000-1405/08/13 | C12: - | E12: - | G12: 0 | I12: 0 | K12: - | M12: اختیار خرید | O12: موقعیت فروش | Q12: 300000 | S12: 18000 | U12: 1405/08/13
A13: اختیارخ تابان-20000-1405/08/13 | C13: - | E13: - | G13: 0 | I13: 0 | K13: - | M13: اختیار خرید | O13: موقعیت فروش | Q13: 100000 | S13: 20000 | U13: 1405/08/13
A14: اختیارخ تابان-24000-1405/08/13 | C14: - | E14: - | G14: 0 | I14: 0 | K14: - | M14: اختیار خرید | O14: موقعیت فروش | Q14: 27000 | S14: 24000 | U14: 1405/08/13

Sheet سپرده
A1: =سهام!A1 -> صندوق سرمایه‌گذاری بخشی افق دماوند
A2: =سهام!A2 -> صورت وضعیت پرتفوی
A3: =سهام!A3 -> به تاریخ 30 مهر 1405
A5: 1-2- سرمایه‌گذاری در سپرده‌ بانکی
C6: (مبالغ به ریال)
C7: =سهام!C8 -> 1405/06/31 | E7: تغییرات طی دوره | I7: =سهام!Q8 -> 1405/07/30
A8: سپرده های بانکی | C8: مبلغ | E8: افزایش | G8: کاهش | I8: مبلغ | K8: درصد به کل دارایی ها
A9: بانک گردشگری | C9: 290666829 | E9: 77510204571 | G9: -77533730358 | I9: =C9+E9+G9 -> 267141042 | K9: =I9/$M$9*100 -> 0.0052754189 | M9: =سهام!AA11 -> 5063883035702
A10: بانک پاسارگاد | C10: 15634017 | E10: 17404 | G10: -2271500 | I10: =C10+E10+G10 -> 13379921 | K10: =I10/$M$9*100 -> 0.00026422255
A11: بانک تجارت | C11: 0 | E11: 102000000 | G11: -2045000 | I11: =C11+E11+G11 -> 99955000 | K11: =I11/$M$9*100 -> 0.0019738805
C12: =SUM(C9:C11) -> 306300846 | E12: =SUM(E9:E11) -> 77612221975 | G12: =SUM(G9:G11) -> -77538046858 | I12: =SUM(I9:I11) -> 380475963 | K12: =SUM(K9:K11) -> 0.0075135219
C14: 306300846 | E14: 77612221975 | G14: =-77538046858 -> -77538046858 | I14: 380475963 | K14: 0.01
C15: =C14-C12 -> 0 | E15: =E14-E12 -> 0 | G15: =G14-G12 -> 0 | I15: =I14-I12 -> 0 | K15: =K14-K12 -> 0.0024864781
I16: =C12+E12+G12-I12 -> 0

Sheet درآمد
A1: =سهام!A1 -> صندوق سرمایه‌گذاری بخشی افق دماوند
A2: صورت وضعیت درآمدها
A3: دوره یک ماهه منتهی به 30 مهر 1405
A5: 2- درآمد حاصل از سرمایه‌گذاری‌ها
C6: (مبالغ به ریال)
A7: شرح | C7: یادداشت | E7: مبلغ | G7: درصد از کل درآمدها | I7: درصد از کل دارایی ها
A8: درآمد حاصل از سرمایه‌گذاری در سهام و حق تقدم سهام و اختیار معاملات سهام | C8: 2-1 | E8: ='2-1'!S110 -> 2183332177456 | G8: =E8/$E$12 -> 0.9818908 | I8: =E8/$K$8 -> 0.88297877 | K8: 2472689310591
A9: درآمد حاصل از سرمایه‌گذاری در اوراق بهادار با درآمد ثابت | C9: 2-2 | E9: ='2-2'!S11 -> 37993720223 | G9: =E9/$E$12 -> 0.017086582 | I9: =E9/$K$8 -> 0.015365343
A10: درآمد حاصل از سرمایه‌گذاری در سپرده بانکی | C10: 2-3 | E10: ='2-3'!G14 -> 1824081 | G10: =E10/$E$12 -> 8.2032792e-07 | I10: =E10/$K$8 -> 7.3769114e-07
A11: سایر درآمدها | C11: 2-4 | E11: ='2-4'!E10 -> 2272067369 | G11: =E11/$E$12 -> 0.0010217969 | I11: =E11/$K$8 -> 0.00091886488
A12: جمع | E12: =SUM(E8:E11) -> 2223599789129 | G12: =SUM(G8:G11) -> 1 | I12: =SUM(I8:I11) -> 0.89926372
E14: 2223599789129
E15: =E14-E12 -> 0

Sheet 2-1
A1: =سهام!A1 -> صندوق سرمایه‌گذاری بخشی افق دماوند
A2: =درآمد!A2 -> صورت وضعیت درآمدها
A3: =درآمد!A3 -> دوره یک ماهه منتهی به 30 مهر 1405
A5: 2-1- درآمد حاصل از سرمایه‌گذاری در سهام ، حق تقدم سهام و اختیار معاملات سهام
C6: (مبالغ به ریال)
C7: طی مهر ماه | M7: از ابتدای سال مالی تا پایان مهر ماه
A8: سهام | C8: درآمد سود سهام | E8: درآمد تغییر ارزش | G8: درآمد فروش | I8: جمع | M8: درآمد سود سهام | O8: درآمد تغییر ارزش | Q8: درآمد فروش | S8: جمع
C9: یادداشت 1-1-2 | E9: یادداشت 2-1-2 | G9: یادداشت 3-1-2 | I9: مبلغ | K9: درصد از کل درآمدها | M9: یادداشت 1-1-2 | O9: یادداشت 2-1-2 | Q9: یادداشت 3-1-2 | S9: مبلغ | U9: درصد از کل درآمدها
A10: س. نفت و گاز و پتروشیمی تأمین | C10: 0 | E10: =VLOOKUP(A10,'درآمد ناشی از تغییر قیمت '!A:Q,9,0) -> -26432002058 | G10: =VLOOKUP(A10,'درآمد ناشی از فروش'!A:Q,9,0) -> 7667092397 | I10: =C10+E10+G10 -> -18764909661 | K10: =I10/$I$110*100 -> -2.8348522 | M10: 24959687200 | O10: 160113714925 | Q10: 7667092397 | S10: =M10+O10+Q10 -> 192740494522 | U10: =S10/$S$110*100 -> 8.8278136
A11: صنایع پتروشیمی خلیج فارس | C11: 0 | E11: =VLOOKUP(A11,'درآمد ناشی از تغییر قیمت '!A:Q,9,0) -> 150997583264 | G11: =VLOOKUP(A11,'درآمد ناشی از فروش'!A:Q,9,0) -> 2665574829 | I11: =C11+E11+G11 -> 153663158093 | K11: =I11/$I$110*100 -> 23.214199 | M11: 24078867000 | O11: 309516773893 | Q11: 36030415582 | S11: =M11+O11+Q11 -> 369626056475 | U11: =S11/$S$110*100 -> 16.929447
A12: ملی‌ صنایع‌ مس‌ ایران‌ | C12: 0 | E12: =VLOOKUP(A12,'درآمد ناشی از تغییر قیمت '!A:Q,9,0) -> 64896228345 | G12: =VLOOKUP(A12,'درآمد ناشی از فروش'!A:Q,9,0) -> 1470430784 | I12: =C12+E12+G12 -> 66366659129 | K12: =I12/$I$110*100 -> 10.026143 | M12: 3780000000 | O12: 192788839965 | Q12: 1470416866 | S12: =M12+O12+Q12 -> 198039256831 | U12: =S12/$S$110*100 -> 9.0705051
A13: صنایع شیمیایی کیمیاگران امروز | C13: 0 | E13: =VLOOKUP(A13,'درآمد ناشی از تغییر قیمت '!A:Q,9,0) -> 83247352276 | G13: 0 | I13: =C13+E13+G13 -> 83247352276 | K13: =I13/$I$110*100 -> 12.576343 | M13: 15689949600 | O13: 207270637415 | Q13: 0 | S13: =M13+O13+Q13 -> 222960587015 | U13: =S13/$S$110*100 -> 10.211941
A14: پتروشیمی نوری | C14: 0 | E14: =VLOOKUP(A14,'درآمد ناشی از تغییر قیمت '!A:Q,9,0) -> -39440793137 | G14: =VLOOKUP(A14,'درآمد ناشی از فروش'!A:Q,9,0) -> 1171147221 | I14: =C14+E14+G14 -> -38269645916 | K14: =I14/$I$110*100 -> -5.7814716 | M14: 10512829250 | O14: 62633451719 | Q14: 19166369617 | S14: =M14+O14+Q14 -> 92312650586 | U14: =S14/$S$110*100 -> 4.2280626
A15: گسترش نفت و گاز پارسیان | C15: 0 | E15: =VLOOKUP(A15,'درآمد ناشی از تغییر قیمت '!A:Q,9,0) -> 9991042973 | G15: =VLOOKUP(A15,'درآمد ناشی از فروش'!A:Q,9,0) -> 13140274984 | I15: =C15+E15+G15 -> 23131317957 | K15: =I15/$I$110*100 -> 3.4944942 | M15: 0 | O15: 79769530929 | Q15: 17335502005 | S15: =M15+O15+Q15 -> 97105032934 | U15: =S15/$S$110*100 -> 4.4475611
A16: پتروشیمی شازند | C16: 0 | E16: =VLOOKUP(A16,'درآمد ناشی از تغییر قیمت '!A:Q,9,0) -> 27419508214 | G16: 0 | I16: =C16+E16+G16 -> 27419508214 | K16: =I16/$I$110*100 -> 4.1423197 | M16: 3711101900 | O16: 84447052050 | Q16: 0 | S16: =M16+O16+Q16 -> 88158153950 | U16: =S16/$S$110*100 -> 4.0377802
A17: گ.س.وت.ص.پتروشیمی خلیج فارس | C17: 0 | E17: =VLOOKUP(A17,'درآمد ناشی از تغییر قیمت '!A:Q,9,0) -> 12329863529 | G17: =VLOOKUP(A17,'درآمد ناشی از فروش'!A:Q,9,0) -> 1954756989 | I17: =C17+E17+G17 -> 14284620518 | K17: =I17/$I$110*100 -> 2.158006 | M17: 9349750355 | O17: 50728047457 | Q17: 4191513978 | S17: =M17+O17+Q17 -> 64269311790 | U17: =S17/$S$110*100 -> 2.9436342
A18: شمش طلا GoldBar | C18: 0 | E18: =VLOOKUP(A18,'درآمد ناشی از تغییر قیمت '!A:Q,9,0) -> 21907026648 | G18: 0 | I18: =C18+E18+G18 -> 21907026648 | K18: =I18/$I$110*100 -> 3.3095381 | M18: 0 | O18: 56260261043 | Q18: 0 | S18: =M18+O18+Q18 -> 56260261043 | U18: =S18/$S$110*100 -> 2.5768072
A19: تولیدات پتروشیمی قائد بصیر | C19: 0 | E19: =VLOOKUP(A19,'درآمد ناشی از تغییر قیمت '!A:Q,9,0) -> 9044477754 | G19: =VLOOKUP(A19,'درآمد ناشی از فروش'!A:Q,9,0) -> 5526404839 | I19: =C19+E19+G19 -> 14570882593 | K19: =I19/$I$110*100 -> 2.2012522 | M19: 9686558400 | O19: 41775206686 | Q19: 6042217560 | S19: =M19+O19+Q19 -> 57503982646 | U19: =S19/$S$110*100 -> 2.6337716
A20: کلر پارس | C20: 0 | E20: =VLOOKUP(A20,'درآمد ناشی از تغییر قیمت '!A:Q,9,0) -> 26232257750 | G20: =VLOOKUP(A20,'درآمد ناشی از فروش'!A:Q,9,0) -> 598219899 | I20: =C20+E20+G20 -> 26830477649 | K20: =I20/$I$110*100 -> 4.0533336 | M20: 10159830290 | O20: 55697208839 | Q20: 2257581542 | S20: =M20+O20+Q20 -> 68114620671 | U20: =S20/$S$110*100 -> 3.1197553
A21: معدنی‌ املاح‌ ایران‌ | C21: 0 | E21: =VLOOKUP(A21,'درآمد ناشی از تغییر قیمت '!A:Q,9,0) -> 13845738672 | G21: 0 | I21: =C21+E21+G21 -> 13845738672 | K21: =I21/$I$110*100 -> 2.0917033 | M21: 2292000000 | O21: 39089425742 | Q21: 0 | S21: =M21+O21+Q21 -> 41381425742 | U21: =S21/$S$110*100 -> 1.8953335
A22: سرمایه گذاری تامین اجتماعی | C22: =VLOOKUP(A22,'درآمد سود سهام'!A:M,3,0) -> 7717290000 | E22: =VLOOKUP(A22,'درآمد ناشی از تغییر قیمت '!A:Q,9,0) -> -364649303 | G22: 0 | I22: =C22+E22+G22 -> 7352640697 | K22: =I22/$I$110*100 -> 1.1107781 | M22: 7717290000 | O22: 23678073967 | Q22: 0 | S22: =M22+O22+Q22 -> 31395363967 | U22: =S22/$S$110*100 -> 1.4379564
A23: ملی شیمی کشاورز | C23: 0 | E23: =VLOOKUP(A23,'درآمد ناشی از تغییر قیمت '!A:Q,9,0) -> 9856983595 | G23: 0 | I23: =C23+E23+G23 -> 9856983595 | K23: =I23/$I$110*100 -> 1.4891141 | M23: 0 | O23: 29740898779 | Q23: 0 | S23: =M23+O23+Q23 -> 29740898779 | U23: =S23/$S$110*100 -> 1.3621793
A24: پتروشیمی تندگویان | C24: 0 | E24: =VLOOKUP(A24,'درآمد ناشی از تغییر قیمت '!A:Q,9,0) -> 3777894656 | G24: 0 | I24: =C24+E24+G24 -> 3777894656 | K24: =I24/$I$110*100 -> 0.57073406 | M24: 4445123100 | O24: 23026386837 | Q24: 2209063877 | S24: =M24+O24+Q24 -> 29680573814 | U24: =S24/$S$110*100 -> 1.3594163
A25: سرمایه گذاری شفادارو | C25: 0 | E25: =VLOOKUP(A25,'درآمد ناشی از تغییر قیمت '!A:Q,9,0) -> 24267018853 | G25: =VLOOKUP(A25,'درآمد ناشی از فروش'!A:Q,9,0) -> 1019855762 | I25: =C25+E25+G25 -> 25286874615 | K25: =I25/$I$110*100 -> 3.8201385 | M25: 0 | O25: 42997066977 | Q25: 1019855762 | S25: =M25+O25+Q25 -> 44016922739 | U25: =S25/$S$110*100 -> 2.0160433
A26: نیروکلر | C26: 0 | E26: =VLOOKUP(A26,'درآمد ناشی از تغییر قیمت '!A:Q,9,0) -> 7609839985 | G26: 0 | I26: =C26+E26+G26 -> 7609839985 | K26: =I26/$I$110*100 -> 1.1496337 | M26: 0 | O26: 24299720332 | Q26: 0 | S26: =M26+O26+Q26 -> 24299720332 | U26: =S26/$S$110*100 -> 1.1129649
A27: توکا رنگ فولاد سپاهان | C27: 0 | E27: =VLOOKUP(A27,'درآمد ناشی از تغییر قیمت '!A:Q,9,0) -> 18599053035 | G27: 0 | I27: =C27+E27+G27 -> 18599053035 | K27: =I27/$I$110*100 -> 2.8097959 | M27: 2318545000 | O27: 34560362072 | Q27: 0 | S27: =M27+O27+Q27 -> 36878907072 | U27: =S27/$S$110*100 -> 1.6891111
A28: پلیمر آریا ساسول | C28: 0 | E28: =VLOOKUP(A28,'درآمد ناشی از تغییر قیمت '!A:Q,9,0) -> 21536077296 | G28: =VLOOKUP(A28,'درآمد ناشی از فروش'!A:Q,9,0) -> 940395328 | I28: =C28+E28+G28 -> 22476472624 | K28: =I28/$I$110*100 -> 3.3955654 | M28: 9048220000 | O28: 36555029645 | Q28: 891406166 | S28: =M28+O28+Q28 -> 46494655811 | U28: =S28/$S$110*100 -> 2.1295273
A29: پالایش نفت بندرعباس | C29: 0 | E29: =VLOOKUP(A29,'درآمد ناشی از تغییر قیمت '!A:Q,9,0) -> 2417169720 | G29: 0 | I29: =C29+E29+G29 -> 2417169720 | K29: =I29/$I$110*100 -> 0.36516664 | M29: 1664600000 | O29: 14703227878 | Q29: 0 | S29: =M29+O29+Q29 -> 16367827878 | U29: =S29/$S$110*100 -> 0.7496719
A30: پتروشیمی فناوران | C30: 0 | E30: =VLOOKUP(A30,'درآمد ناشی از تغییر قیمت '!A:Q,9,0) -> 5803288039 | G30: 0 | I30: =C30+E30+G30 -> 5803288039 | K30: =I30/$I$110*100 -> 0.87671427 | M30: 1447204595 | O30: 15159609570 | Q30: 0 | S30: =M30+O30+Q30 -> 16606814165 | U30: =S30/$S$110*100 -> 0.76061785
A31: پتروشیمی‌شیراز | C31: 0 | E31: =VLOOKUP(A31,'درآمد ناشی از تغییر قیمت '!A:Q,9,0) -> -1248562155 | G31: =VLOOKUP(A31,'درآمد ناشی از فروش'!A:Q,9,0) -> 1122770056 | I31: =C31+E31+G31 -> -125792099 | K31: =I31/$I$110*100 -> -0.019003663 | M31: 7062721888 | O31: 7872337385 | Q31: 1516953344 | S31: =M31+O31+Q31 -> 16452012617 | U31: =S31/$S$110*100 -> 0.75352769
A32: گلتاش‌ | C32: 0 | E32: =VLOOKUP(A32,'درآمد ناشی از تغییر قیمت '!A:Q,9,0) -> 1174009401 | G32: 0 | I32: =C32+E32+G32 -> 1174009401 | K32: =I32/$I$110*100 -> 0.17735994 | M32: 0 | O32: 9587343414 | Q32: 12843018815 | S32: =M32+O32+Q32 -> 22430362229 | U32: =S32/$S$110*100 -> 1.0273454
A33: مدیریت صنعت شوینده ت.ص.بهشهر | C33: 0 | E33: =VLOOKUP(A33,'درآمد ناشی از تغییر قیمت '!A:Q,9,0) -> 6834418100 | G33: 0 | I33: =C33+E33+G33 -> 6834418100 | K33: =I33/$I$110*100 -> 1.0324891 | M33: 255389550 | O33: 14659105566 | Q33: 0 | S33: =M33+O33+Q33 -> 14914495116 | U33: =S33/$S$110*100 -> 0.68310701
A34: پالایش نفت اصفهان | C34: 0 | E34: =VLOOKUP(A34,'درآمد ناشی از تغییر قیمت '!A:Q,9,0) -> 37106085276 | G34: =VLOOKUP(A34,'درآمد ناشی از فروش'!A:Q,9,0) -> 5446533717 | I34: =C34+E34+G34 -> 42552618993 | K34: =I34/$I$110*100 -> 6.4285088 | M34: 613763400 | O34: 44609147319 | Q34: 5446533717 | S34: =M34+O34+Q34 -> 50669444436 | U34: =S34/$S$110*100 -> 2.3207391
A35: سرمایه‌گذاری صنایع پتروشیمی‌ | C35: 0 | E35: =VLOOKUP(A35,'درآمد ناشی از تغییر قیمت '!A:Q,9,0) -> 96388185 | G35: 0 | I35: =C35+E35+G35 -> 96388185 | K35: =I35/$I$110*100 -> 0.014561555 | M35: 1090336500 | O35: 7488771842 | Q35: 0 | S35: =M35+O35+Q35 -> 8579108342 | U35: =S35/$S$110*100 -> 0.39293647
A36: پتروشیمی پارس | C36: 0 | E36: =VLOOKUP(A36,'درآمد ناشی از تغییر قیمت '!A:Q,9,0) -> 15234008262 | G36: =VLOOKUP(A36,'درآمد ناشی از فروش'!A:Q,9,0) -> 608829299 | I36: =C36+E36+G36 -> 15842837561 | K36: =I36/$I$110*100 -> 2.393409 | M36: 8122558840 | O36: 21997813644 | Q36: 6228332502 | S36: =M36+O36+Q36 -> 36348704986 | U36: =S36/$S$110*100 -> 1.6648271
A37: شرکت آهن و فولاد ارفع | C37: 0 | E37: =VLOOKUP(A37,'درآمد ناشی از تغییر قیمت '!A:Q,9,0) -> 2508458560 | G37: 0 | I37: =C37+E37+G37 -> 2508458560 | K37: =I37/$I$110*100 -> 0.37895783 | M37: 0 | O37: 9143158268 | Q37: 0 | S37: =M37+O37+Q37 -> 9143158268 | U37: =S37/$S$110*100 -> 0.41877083
A38: پتروشیمی پردیس | C38: 0 | E38: =VLOOKUP(A38,'درآمد ناشی از تغییر قیمت '!A:Q,9,0) -> -15099821749 | G38: =VLOOKUP(A38,'درآمد ناشی از فروش'!A:Q,9,0) -> -282378784 | I38: =C38+E38+G38 -> -15382200533 | K38: =I38/$I$110*100 -> -2.3238196 | M38: 0 | O38: -8704949788 | Q38: 2258138502 | S38: =M38+O38+Q38 -> -6446811286 | U38: =S38/$S$110*100 -> -0.29527396
A39: کربن‌ ایران‌ | C39: 0 | E39: =VLOOKUP(A39,'درآمد ناشی از تغییر قیمت '!A:Q,9,0) -> 4737237842 | G39: 0 | I39: =C39+E39+G39 -> 4737237842 | K39: =I39/$I$110*100 -> 0.71566395 | M39: 2757022940 | O39: 11082689270 | Q39: 0 | S39: =M39+O39+Q39 -> 13839712210 | U39: =S39/$S$110*100 -> 0.63388028
A40: پتروشیمی مارون | C40: 0 | E40: =VLOOKUP(A40,'درآمد ناشی از تغییر قیمت '!A:Q,9,0) -> 2814964799 | G40: =VLOOKUP(A40,'درآمد ناشی از فروش'!A:Q,9,0) -> 0 | I40: =C40+E40+G40 -> 2814964799 | K40: =I40/$I$110*100 -> 0.42526233 | M40: 1094394750 | O40: 8919209315 | Q40: 481168624 | S40: =M40+O40+Q40 -> 10494772689 | U40: =S40/$S$110*100 -> 0.48067687
A41: بین المللی توسعه ص. معادن غدیر | C41: 0 | E41: =VLOOKUP(A41,'درآمد ناشی از تغییر قیمت '!A:Q,9,0) -> 14968521151 | G41: 0 | I41: =C41+E41+G41 -> 14968521151 | K41: =I41/$I$110*100 -> 2.2613243 | M41: 0 | O41: 20753844107 | Q41: 0 | S41: =M41+O41+Q41 -> 20753844107 | U41: =S41/$S$110*100 -> 0.95055825
...

Sheet 2-2
A1: =سهام!A1 -> صندوق سرمایه‌گذاری بخشی افق دماوند
A2: =درآمد!A2 -> صورت وضعیت درآمدها
A3: =درآمد!A3 -> دوره یک ماهه منتهی به 30 مهر 1405
A5: 2-2- درآمد حاصل از سرمایه‌گذاری در اوراق بهادار با درآمد ثابت
C6: (مبالغ به ریال)
C7: ='2-1'!C7 -> طی مهر ماه | M7: ='2-1'!M7 -> از ابتدای سال مالی تا پایان مهر ماه
A8: سهام | C8: درآمد سود اوراق | E8: درآمد تغییر ارزش | G8: درآمد فروش | I8: جمع | M8: درآمد سود اوراق | O8: درآمد تغییر ارزش | Q8: درآمد فروش | S8: جمع
C9: یادداشت 1-2-2 | E9: یادداشت 2-2-2 | G9: یادداشت 3-2-2 | I9: مبلغ | K9: درصد از کل درآمدها | M9: یادداشت 1-2-2 | O9: یادداشت 2-2-2 | Q9: یادداشت 3-2-2 | S9: مبلغ | U9: درصد از کل درآمدها
A10: صکوک مرابحه اندیمشک07-6ماهه23% | C10: 0 | E10: 0 | G10: 0 | I10: =C10+E10+G10 -> 0 | K10: 0 | M10: 38219817098 | O10: 0 | Q10: -226096875 | S10: =M10+O10+Q10 -> 37993720223 | U10: =S10/S11 -> 1
C11: =SUM(C10:C10) -> 0 | E11: =SUM(E10:E10) -> 0 | G11: =SUM(G10:G10) -> 0 | I11: =SUM(I10:I10) -> 0 | K11: =SUM(K10:K10) -> 0 | M11: =SUM(M10:M10) -> 38219817098 | O11: =SUM(O10:O10) -> 0 | Q11: =SUM(Q10:Q10) -> -226096875 | S11: =SUM(S10:S10) -> 37993720223 | U11: =SUM(U10:U10) -> 1
C13: 0 | E13: 0 | G13: 0 | I13: =C13+E13+G13 -> 0 | M13: ='درآمد سود اوراق'!I10 -> 38219817098 | O13: 0 | Q13: ='درآمد ناشی از فروش'!Q57 -> -226096875 | S13: =M13+O13+Q13 -> 37993720223
C14: =C13-C11 -> 0 | E14: =E13-E11 -> 0 | G14: =G13-G11 -> 0 | I14: =I13-I11 -> 0 | M14: =M13-M11 -> 0 | O14: =O13-O11 -> 0 | Q14: =Q13-Q11 -> 0 | S14: =S13-S11 -> 0

Sheet 2-3
A1: =درآمد!A1 -> صندوق سرمایه‌گذاری بخشی افق دماوند
A2: =درآمد!A2 -> صورت وضعیت درآمدها
A3: =درآمد!A3 -> دوره یک ماهه منتهی به 30 مهر 1405
A5: 2-3- درآمد حاصل از سرمایه‌گذاری در سپرده بانکی
C6: (مبالغ به ریال)
C7: ='2-1'!C7 -> طی مهر ماه | G7: ='2-1'!M7 -> از ابتدای سال مالی تا پایان مهر ماه
A8: نام سپرده بانکی | C8: سود سپرده بانکی و گواهی سپرده | E8: درصد سود به میانگین سپرده | G8: سود سپرده بانکی و گواهی سپرده | I8: درصد سود به میانگین سپرده
C9: یادداشت 1-3-2 | G9: یادداشت 1-3-2
A10: بانک پاسارگاد | C10: 17404 | E10: =C10/$C$14 -> 0.6088508 | G10: 1550657 | I10: =G10/$G$14 -> 0.85010315
A11: بانک سینا | C11: 0 | E11: =C11/$C$14 -> 0 | G11: 245778 | I11: =G11/$G$14 -> 0.13474073
A12: بانک گردشگری | C12: 11181 | E12: =C12/$C$14 -> 0.3911492 | G12: 25601 | I12: =G12/$G$14 -> 0.014035013
A13: بانک صادرات | C13: 0 | E13: =C13/$C$14 -> 0 | G13: 2045 | I13: =G13/$G$14 -> 0.0011211125
A14: جمع | C14: =SUM(C10:C13) -> 28585 | E14: =SUM(E10:E13) -> 1 | G14: =SUM(G10:G13) -> 1824081 | I14: =SUM(I10:I13) -> 1
C16: ='سود سپرده بانکی'!C13 -> 28585 | G16: ='سود سپرده بانکی'!I13 -> 1824081
C17: =C16-C14 -> 0 | G17: =G16-G14 -> 0

Sheet 2-4
A1: =درآمد!A1 -> صندوق سرمایه‌گذاری بخشی افق دماوند
A2: =درآمد!A2 -> صورت وضعیت درآمدها
A3: =درآمد!A3 -> دوره یک ماهه منتهی به 30 مهر 1405
A5: 2-4- سایر درآمدها
C6: (مبالغ به ریال)
A7: سایر درآمدها | C7: ='2-3'!C7 -> طی مهر ماه | E7: ='2-3'!G7 -> از ابتدای سال مالی تا پایان مهر ماه
A8: درآمد حاصل از تعدیل کارمزد کارگزاری | C8: 385938797 | E8: 2120749350
A9: درآمد حاصل از برگشت تنزیل سود سهام | C9: 0 | E9: 151318019
A10: جمع | C10: =SUM(C8:C9) -> 385938797 | E10: =SUM(E8:E9) -> 2272067369
C12: 385938797 | E12: 2272067369
C13: =C12-C10 -> 0 | E13: =E12-E10 -> 0

Sheet درآمد سود ترجیحی
A1: ='2-4'!A1 -> صندوق سرمایه‌گذاری بخشی افق دماوند
A2: ='2-4'!A2 -> صورت وضعیت درآمدها
A3: ='2-4'!A3 -> دوره یک ماهه منتهی به 30 مهر 1405
A5: 2-4-1- جزئیات قراردادهای خرید و نگهداری اوراق بهادار با درآمد ثابت
A7: طرف معامله | B7: نوع وابستگی | C7: نام ورقه بهادار | D7: تعداد اوراق | E7: بهای تمام شده اوراق | F7: مبلغ شناسایی شده بابت قرارداد خرید و نگهداری اوراق بهادار | G7: نرخ اسمی | H7: نرخ اسمی (درصد) | I7: میانگین نرخ بازده تا سررسید قراردادهای منعقده (درصد)
A8: تامین سرمایه دماوند | B8: مدیر صندوق | C8: صکوک مرابحه اندیمشک07-6ماهه23% | D8: 175000 | E8: =D8*G8 -> 175000000000 | F8: 11777063438 | G8: 1000000 | H8: 23 | I8: 33
A10: 2-4-1-1- در تاریخ 1405/05/27 اوراق صکوک مرابحه اندیمشک07-6ماهه23% به فروش رسیده است.

Sheet درآمد سود سهام
A1: =درآمد!A1 -> صندوق سرمایه‌گذاری بخشی افق دماوند
A2: =درآمد!A2 -> صورت وضعیت درآمدها
A3: =درآمد!A3 -> دوره یک ماهه منتهی به 30 مهر 1405
A5: 2-1-1- درآمد سود سهام
C6: (مبالغ به ریال)
A7: نام سهام | C7: ='2-1'!C7 -> طی مهر ماه | I7: ='2-1'!M7 -> از ابتدای سال مالی تا پایان مهر ماه
C8: جمع درآمد سود سهام | E8: هزینه تنزیل | G8: خالص درآمد سود سهام | I8: جمع درآمد سود سهام | K8: هزینه تنزیل | M8: خالص درآمد سود سهام
A9: سرمایه‌گذاری صنایع پتروشیمی‌ | C9: 0 | E9: 0 | G9: =C9+E9 -> 0 | I9: 1090336500 | K9: -36801563 | M9: =I9+K9 -> 1053534937
A10: ملی‌ صنایع‌ مس‌ ایران‌ | C10: 0 | E10: 0 | G10: =C10+E10 -> 0 | I10: 3780000000 | K10: 0 | M10: =I10+K10 -> 3780000000
A11: پتروشیمی‌شیراز | C11: 0 | E11: 0 | G11: =C11+E11 -> 0 | I11: 7062721888 | K11: 0 | M11: =I11+K11 -> 7062721888
A12: دوده‌ صنعتی‌ پارس‌ | C12: 0 | E12: 0 | G12: =C12+E12 -> 0 | I12: 319276150 | K12: 0 | M12: =I12+K12 -> 319276150
A13: پالایش نفت اصفهان | C13: 0 | E13: 0 | G13: =C13+E13 -> 0 | I13: 613763400 | K13: 0 | M13: =I13+K13 -> 613763400
A14: پتروشیمی فناوران | C14: 0 | E14: 0 | G14: =C14+E14 -> 0 | I14: 1447204595 | K14: 0 | M14: =I14+K14 -> 1447204595
A15: پتروشیمی‌ خارک‌ | C15: 0 | E15: 0 | G15: =C15+E15 -> 0 | I15: 1035982500 | K15: 0 | M15: =I15+K15 -> 1035982500
A16: پتروشیمی شازند | C16: 0 | E16: 0 | G16: =C16+E16 -> 0 | I16: 3711101900 | K16: 0 | M16: =I16+K16 -> 3711101900
A17: کربن‌ ایران‌ | C17: 0 | E17: 0 | G17: =C17+E17 -> 0 | I17: 2757022940 | K17: -37257067 | M17: =I17+K17 -> 2719765873
A18: معدنی‌ املاح‌ ایران‌ | C18: 0 | E18: 0 | G18: =C18+E18 -> 0 | I18: 2292000000 | K18: 0 | M18: =I18+K18 -> 2292000000
A19: پالایش نفت بندرعباس | C19: 0 | E19: 0 | G19: =C19+E19 -> 0 | I19: 1664600000 | K19: -50844356 | M19: =I19+K19 -> 1613755644
A20: پتروشیمی مارون | C20: 0 | E20: 0 | G20: =C20+E20 -> 0 | I20: 1094394750 | K20: 0 | M20: =I20+K20 -> 1094394750
... A37: آکو باتری ایرانیان | C37: 0 | E37: 0 | G37: =C37+E37 -> 0 | I37: 989420 | K37: 0 | M37: =I37+K37 -> 989420
C38: =SUM(C9:C37) -> 7717290000 | E38: =SUM(E9:E37) -> -1093396173 | G38: =SUM(G9:G37) -> 6623893827 | I38: =SUM(I9:I37) -> 169488393628 | K38: =SUM(K9:K37) -> -1651141974 | M38: =SUM(M9:M37) -> 167837251654
C40: ='2-1'!C110 -> 7717290000 | E40: -1093396173 | G40: =C40+E40 -> 6623893827 | I40: ='2-1'!M110 -> 169488393628 | K40: -1651141974 | M40: =I40+K40 -> 167837251654
C41: =C40-C38 -> 0 | E41: =E40-E38 -> 0 | G41: =G40-G38 -> 0 | I41: =I40-I38 -> 0 | K41: =K40-K38 -> 0 | M41: =M40-M38 -> 0

Sheet درآمد سود اوراق
A1: =درآمد!A1 -> صندوق سرمایه‌گذاری بخشی افق دماوند
A2: =درآمد!A2 -> صورت وضعیت درآمدها
A3: =درآمد!A3 -> دوره یک ماهه منتهی به 30 مهر 1405
A5: 2-1-1- درآمد سود اوراق بهادار با درآمد ثابت
C6: (مبالغ به ریال)
A7: نام اوراق | C7: ='2-1'!C7 -> طی مهر ماه | I7: ='2-1'!M7 -> از ابتدای سال مالی تا پایان مهر ماه
C8: جمع درآمد سود اوراق | E8: هزینه تنزیل | G8: خالص درآمد سود اوراق | I8: جمع درآمد سود اوراق | K8: هزینه تنزیل | M8: خالص درآمد سود اوراق
A9: صکوک مرابحه اندیمشک07-6ماهه23% | C9: 0 | E9: 0 | G9: =C9+E9 -> 0 | I9: 38219817098 | K9: 0 | M9: =I9+K9 -> 38219817098
C10: =SUM(C9:C9) -> 0 | E10: =SUM(E9:E9) -> 0 | G10: =SUM(G9:G9) -> 0 | I10: =SUM(I9:I9) -> 38219817098 | K10: =SUM(K9:K9) -> 0 | M10: =SUM(M9:M9) -> 38219817098
G12: =C12+E12 -> 0 | I12: ='2-2'!M11 -> 38219817098 | M12: =I12+K12 -> 38219817098
C13: =C12-C10 -> 0 | E13: =E12-E10 -> 0 | G13: =G12-G10 -> 0 | I13: =I12-I10 -> 0 | K13: =K12-K10 -> 0 | M13: =M12-M10 -> 0

Sheet سود سپرده بانکی
A1: =درآمد!A1 -> صندوق سرمایه‌گذاری بخشی افق دماوند
A2: =درآمد!A2 -> صورت وضعیت درآمدها
A3: =درآمد!A3 -> دوره یک ماهه منتهی به 30 مهر 1405
A5: 2-3-1- سود سپرده بانکی
C6: (مبالغ به ریال)
A7: شرح | C7: ='درآمد سود اوراق'!C7 -> طی مهر ماه | I7: ='درآمد سود اوراق'!I7 -> از ابتدای سال مالی تا پایان مهر ماه
C8: درآمد سود | E8: هزینه تنزیل | G8: خالص درآمد | I8: درآمد سود | K8: هزینه تنزیل | M8: خالص درآمد
A9: بانک پاسارگاد | C9: 17404 | E9: 0 | G9: =C9+E9 -> 17404 | I9: 1550657 | K9: 0 | M9: =I9+K9 -> 1550657
A10: بانک سینا | C10: 0 | E10: 0 | G10: =C10+E10 -> 0 | I10: 245778 | K10: 0 | M10: =I10+K10 -> 245778
A11: بانک گردشگری | C11: 11181 | E11: 0 | G11: =C11+E11 -> 11181 | I11: 25601 | K11: 0 | M11: =I11+K11 -> 25601
A12: بانک صادرات | C12: 0 | E12: 0 | G12: =C12+E12 -> 0 | I12: 2045 | K12: 0 | M12: =I12+K12 -> 2045
C13: =SUM(C9:C12) -> 28585 | E13: =SUM(E9:E12) -> 0 | G13: =SUM(G9:G12) -> 28585 | I13: =SUM(I9:I12) -> 1824081 | K13: =SUM(K9:K12) -> 0 | M13: =SUM(M9:M12) -> 1824081
C15: ='2-3'!C14 -> 28585 | E15: 0 | G15: =C15+E15 -> 28585 | I15: ='2-3'!G14 -> 1824081 | K15: 0 | M15: =I15+K15 -> 1824081
C16: =C15-C13 -> 0 | G16: =G15-G13 -> 0 | I16: =I15-I13 -> 0 | M16: =M15-M13 -> 0

Sheet درآمد ناشی از تغییر قیمت 
A1: =درآمد!A1 -> صندوق سرمایه‌گذاری بخشی افق دماوند
A2: =درآمد!A2 -> صورت وضعیت درآمدها
A3: =درآمد!A3 -> دوره یک ماهه منتهی به 30 مهر 1405
A5: 2-1-2- درآمد ناشی از تغییر قیمت سهام، حق تقدم سهام ، اختیار معاملات سهام و گواهی سپرده‌های کالایی
C6: (مبالغ به ریال)
A7: شرح | C7: ='سود سپرده بانکی'!C7 -> طی مهر ماه | K7: ='سود سپرده بانکی'!I7 -> از ابتدای سال مالی تا پایان مهر ماه
C8: تعداد | E8: خالص ارزش فروش | G8: ارزش دفتری | I8: سود (زیان) ناشی از تغییر قیمت | K8: تعداد | M8: خالص ارزش فروش | O8: ارزش دفتری | Q8: سود (زیان) ناشی از تغییر قیمت
A9: صنایع پتروشیمی خلیج فارس | C9: 43698480 | E9: 692903838178 | G9: -541906254914 | I9: =E9+G9 -> 150997583264 | K9: 43698480 | M9: 692903838178 | O9: -383387064285 | Q9: =M9+O9 -> 309516773893
A10: صنایع شیمیایی کیمیاگران امروز | C10: 20512437 | E10: 286379033378 | G10: -203131681102 | I10: =E10+G10 -> 83247352276 | K10: 20512437 | M10: 286379033378 | O10: -79108395963 | Q10: =M10+O10 -> 207270637415
A11: ملی‌ صنایع‌ مس‌ ایران‌ | C11: 14019999 | E11: 401906829139 | G11: -337010600794 | I11: =E11+G11 -> 64896228345 | K11: 14019999 | M11: 401906829139 | O11: -209117989174 | Q11: =M11+O11 -> 192788839965
A12: س. نفت و گاز و پتروشیمی تأمین | C12: 8493126 | E12: 376708093880 | G12: -403140095938 | I12: =E12+G12 -> -26432002058 | K12: 8493126 | M12: 376708093880 | O12: -216594378955 | Q12: =M12+O12 -> 160113714925
A13: پتروشیمی شازند | C13: 4723562 | E13: 164468544698 | G13: -137049036484 | I13: =E13+G13 -> 27419508214 | K13: 4723562 | M13: 164468544698 | O13: -80021492648 | Q13: =M13+O13 -> 84447052050
A14: گسترش نفت و گاز پارسیان | C14: 10376585 | E14: 371493173846 | G14: -361502130873 | I14: =E14+G14 -> 9991042973 | K14: 10376585 | M14: 371493173846 | O14: -291723642917 | Q14: =M14+O14 -> 79769530929
A15: پتروشیمی نوری | C15: 4578968 | E15: 194328599133 | G15: -233769392270 | I15: =E15+G15 -> -39440793137 | K15: 4578968 | M15: 194328599133 | O15: -131695147414 | Q15: =M15+O15 -> 62633451719
A16: شمش طلا GoldBar | C16: 5343 | E16: 191246743584 | G16: -169339716936 | I16: =E16+G16 -> 21907026648 | K16: 5343 | M16: 191246743584 | O16: -134986482541 | Q16: =M16+O16 -> 56260261043
A17: کلر پارس | C17: 8749078 | E17: 119196275919 | G17: -92964018169 | I17: =E17+G17 -> 26232257750 | K17: 8749078 | M17: 119196275919 | O17: -63499067080 | Q17: =M17+O17 -> 55697208839
A18: گ.س.وت.ص.پتروشیمی خلیج فارس | C18: 36955535 | E18: 105315862947 | G18: -92985999418 | I18: =E18+G18 -> 12329863529 | K18: 36955535 | M18: 105315862947 | O18: -54587815490 | Q18: =M18+O18 -> 50728047457
A19: پالایش نفت اصفهان | C19: 28797871 | E19: 392052614632 | G19: -354946529356 | I19: =E19+G19 -> 37106085276 | K19: 28797871 | M19: 392052614632 | O19: -347443467313 | Q19: =M19+O19 -> 44609147319
A20: سرمایه گذاری شفادارو | C20: 1110000 | E20: 88212703773 | G20: -63945684920 | I20: =E20+G20 -> 24267018853 | K20: 1110000 | M20: 88212703773 | O20: -45215636796 | Q20: =M20+O20 -> 42997066977
... A46: سرمایه گذاری دنیای سرمایه | C46: 4840000 | E46: 24205037472 | G46: -18925908125 | I46: =E46+G46 -> 5279129347 | K46: 4840000 | M46: 24205037472 | O46: -18925908125 | Q46: =M46+O46 -> 5279129347
A47: اختیارخ تاپیکو-50000-05/08/13(ضپیک80041) | C47: 799000 | E47: 753690308 | G47: 5053461250 | I47: 4299770942 | K47: 799000 | M47: 753690308 | O47: 5053461250 | Q47: 4299770942
A48: مس کاتد CopperCthd | C48: 527 | E48: 18663599600 | G48: -15046546681 | I48: =E48+G48 -> 3617052919 | K48: 527 | M48: 18663599600 | O48: -14996375834 | Q48: =M48+O48 -> 3667223766
A49: سیمان‌هگمتان‌ | C49: 80468 | E49: 15633843346 | G49: -12539255441 | I49: =E49+G49 -> 3094587905 | K49: 80468 | M49: 15633843346 | O49: -12076476215 | Q49: =M49+O49 -> 3557367131
A50: شیرپاستوریزه‌پگاه‌اصفهان‌ | C50: 200000 | E50: 5872253860 | G50: -4758926920 | I50: =E50+G50 -> 1113326940 | K50: 200000 | M50: 5872253860 | O50: -2754688237 | Q50: =M50+O50 -> 3117565623
A51: تولیدی و صنعتی گوهرفام | C51: 1600000 | E51: 5064546080 | G51: -4210400064 | I51: =E51+G51 -> 854146016 | K51: 1600000 | M51: 5064546080 | O51: -2632293856 | Q51: =M51+O51 -> 2432252224
A52: تولید نیروی برق سبز منجیل | C52: 150000 | E52: 4795640910 | G52: -5755153980 | I52: =E52+G52 -> -959513070 | K52: 150000 | M52: 4795640910 | O52: -2782337100 | Q52: =M52+O52 -> 2013303810
A53: پتروشیمی جم پیلن | C53: 10000 | E53: 3812301340 | G53: -3000624480 | I53: =E53+G53 -> 811676860 | K53: 10000 | M53: 3812301340 | O53: -1932148145 | Q53: =M53+O53 -> 1880153195
A54: سرمایه‌ گذاری‌ البرز(هلدینگ‌ | C54: 10435482 | E54: 40901522110 | G54: -39199091243 | I54: =E54+G54 -> 1702430867 | K54: 10435482 | M54: 40901522110 | O54: -39199091243 | Q54: =M54+O54 -> 1702430867
A55: صنعتی معدنی سیمان تجارت مهریز | C55: 318750 | E55: 8391069238 | G55: -8334137746 | I55: =E55+G55 -> 56931492 | K55: 318750 | M55: 8391069238 | O55: -6888972658 | Q55: =M55+O55 -> 1502096580
A56: پدیده شیمی قرن | C56: 500000 | E56: 11480563900 | G56: -11227535050 | I56: =E56+G56 -> 253028850 | K56: 500000 | M56: 11480563900 | O56: -10274297949 | Q56: =M56+O56 -> 1206265951
A57: نفت پاسارگاد | C57: 210000 | E57: 11748278346 | G57: -10635145095 | I57: =E57+G57 -> 1113133251 | K57: 210000 | M57: 11748278346 | O57: -10635145095 | Q57: =M57+O57 -> 1113133251
A58: اختیارخ تابان-18000-1405/08/13(ضبان80011) | C58: 300000 | E58: 2179664025 | G58: 3081037025 | I58: 901373000 | K58: 300000 | M58: 2179664025 | O58: 3081037025 | Q58: 901373000
A59: پتروشیمی بوعلی سینا | C59: 570000 | E59: 34546475412 | G59: -33658492989 | I59: =E59+G59 -> 887982423 | K59: 570000 | M59: 34546475412 | O59: -33706355007 | Q59: =M59+O59 -> 840120405
A60: دارویی‌ رازک‌ | C60: 300000 | E60: 1812877290 | G60: 564486896 | I60: =E60+G60 -> 2377364186 | K60: 300000 | M60: 1812877290 | O60: -1389692296 | Q60: =M60+O60 -> 423184994
A61: پتروشیمی‌ خارک‌ | C61: 138131 | E61: 13951667949 | G61: -12679721014 | I61: =E61+G61 -> 1271946935 | K61: 138131 | M61: 13951667949 | O61: -13707695369 | Q61: =M61+O61 -> 243972580
A62: اختیارخ تابان-20000-1405/08/13(ضبان80021) | C62: 100000 | E62: 474743675 | G62: 715209675 | I62: 240466000 | K62: 100000 | M62: 474743675 | O62: 715209675 | Q62: 240466000
A63: پتروشیمی اروند | C63: 14354 | E63: 931067758 | G63: -792910236 | I63: =E63+G63 -> 138157522 | K63: 14354 | M63: 931067758 | O63: -720466363 | Q63: =M63+O63 -> 210601395
A64: آریان کیمیا تک | C64: 131080 | E64: 3208746761 | G64: -3109596302 | I64: =E64+G64 -> 99150459 | K64: 131080 | M64: 3208746761 | O64: -3109596302 | Q64: =M64+O64 -> 99150459
A65: کاشی‌ الوند | C65: 188648 | E65: 1628550833 | G65: -1537794030 | I65: =E65+G65 -> 90756803 | K65: 188648 | M65: 1628550833 | O65: -1537794030 | Q65: =M65+O65 -> 90756803
A66: اختیارخ تابان-24000-1405/08/13(ضبان80041) | C66: 27000 | E66: 44327729 | G66: 92760680 | I66: 48432951 | K66: 27000 | M66: 44327729 | O66: 92760680 | Q66: 48432951
...

Sheet درآمد ناشی از فروش
A1: =درآمد!A1 -> صندوق سرمایه‌گذاری بخشی افق دماوند
A2: =درآمد!A2 -> صورت وضعیت درآمدها
A3: ='2-1'!A3 -> دوره یک ماهه منتهی به 30 مهر 1405
A5: 2-1-3-سود (زیان) حاصل از فروش سهام و حق تقدم سهام
C6: (مبالغ به ریال)
A7: شرح | C7: ='2-1'!C7 -> طی مهر ماه | K7: ='2-1'!M7 -> از ابتدای سال مالی تا پایان مهر ماه
C8: تعداد | E8: خالص بهای فروش | G8: ارزش دفتری | I8: سود (زیان) ناشی از فروش | K8: تعداد | M8: خالص بهای فروش | O8: ارزش دفتری | Q8: سود (زیان) ناشی از فروش
A9: صنایع پتروشیمی خلیج فارس | C9: 700000 | E9: 8738921944 | G9: -6073347115 | I9: =E9+G9 -> 2665574829 | K9: 20400000 | M9: 245510312926 | O9: -209479897344 | Q9: =M9+O9 -> 36030415582
A10: پتروشیمی نوری | C10: 60000 | E10: 2874407766 | G10: -1703260545 | I10: =E10+G10 -> 1171147221 | K10: 1185601 | M10: 71267478276 | O10: -52101108659 | Q10: =M10+O10 -> 19166369617
A11: گسترش نفت و گاز پارسیان | C11: 1923200 | E11: 66688919294 | G11: -53548644310 | I11: =E11+G11 -> 13140274984 | K11: 3423200 | M11: 110828065836 | O11: -93492563831 | Q11: =M11+O11 -> 17335502005
A12: گلتاش‌ | C12: 0 | E12: 0 | G12: 0 | I12: =E12+G12 -> 0 | K12: 8628591 | M12: 24397688623 | O12: -11554669808 | Q12: =M12+O12 -> 12843018815
A13: بانک ملت | C13: 0 | E13: 0 | G13: 0 | I13: =E13+G13 -> 0 | K13: 39000000 | M13: 61381572621 | O13: -50047065823 | Q13: =M13+O13 -> 11334506798
A14: س. نفت و گاز و پتروشیمی تأمین | C14: 270000 | E14: 13775486032 | G14: -6108393635 | I14: =E14+G14 -> 7667092397 | K14: 270000 | M14: 13775486032 | O14: -6108393635 | Q14: =M14+O14 -> 7667092397
A15: ح . گلتاش‌ | C15: 0 | E15: 0 | G15: 0 | I15: =E15+G15 -> 0 | K15: 20000001 | M15: 28041550369 | O15: -20381578056 | Q15: =M15+O15 -> 7659972313
A16: تولیدات پتروشیمی قائد بصیر | C16: 900000 | E16: 14451420338 | G16: -8925015499 | I16: =E16+G16 -> 5526404839 | K16: 1000001 | M16: 15959670739 | O16: -9917453179 | Q16: =M16+O16 -> 6042217560
A17: پتروشیمی پارس | C17: 600000 | E17: 2015300376 | G17: -1406471077 | I17: =E17+G17 -> 608829299 | K17: 15000000 | M17: 41459620775 | O17: -35231288273 | Q17: =M17+O17 -> 6228332502
A18: بانک صادرات ایران | C18: 16542000 | E18: 15626252135 | G18: -10271606735 | I18: =E18+G18 -> 5354645400 | K18: 16542000 | M18: 15626252135 | O18: -10271606735 | Q18: =M18+O18 -> 5354645400
A19: پالایش نفت اصفهان | C19: 5400000 | E19: 70051285665 | G19: -64604751948 | I19: =E19+G19 -> 5446533717 | K19: 5400000 | M19: 70051285665 | O19: -64604751948 | Q19: =M19+O19 -> 5446533717
A20: پتروشیمی اروند | C20: 0 | E20: 0 | G20: 0 | I20: =E20+G20 -> 0 | K20: 400000 | M20: 25479509123 | O20: -20718560723 | Q20: =M20+O20 -> 4760948400
... A49: پتروشیمی جم | C49: 0 | E49: 0 | G49: 0 | I49: =E49+G49 -> 0 | K49: 2300000 | M49: 86352205163 | O49: -99288577443 | Q49: =M49+O49 -> -12936372280
C50: =SUM(C9:C49) -> 39668803 | E50: =SUM(E9:E49) -> 286133147477 | G50: =SUM(G9:G49) -> -227906366561 | I50: =SUM(I9:I49) -> 58226780916 | K50: =SUM(K9:K49) -> 164590929 | M50: =SUM(M9:M49) -> 1151947274048 | O50: =SUM(O9:O49) -> -993109810210 | Q50: =SUM(Q9:Q49) -> 158837463838
A52: 2-2-3- سود (زیان) حاصل از فروش اوراق بهادار با درآمد ثابت
C53: (مبالغ به ریال)
A54: شرح | C54: =C7 -> طی مهر ماه | K54: =K7 -> از ابتدای سال مالی تا پایان مهر ماه
C55: تعداد | E55: خالص بهای فروش | G55: ارزش دفتری | I55: سود (زیان) ناشی از فروش | K55: تعداد | M55: خالص بهای فروش | O55: ارزش دفتری | Q55: سود (زیان) ناشی از فروش
A56: صکوک مرابحه اندیمشک07-6ماهه23% | C56: 0 | E56: 0 | G56: 0 | I56: 0 | K56: 841300 | M56: 840856568125 | O56: -841082665000 | Q56: =M56+O56 -> -226096875
C57: =SUM(C56:C56) -> 0 | E57: =SUM(E56:E56) -> 0 | G57: =SUM(G56:G56) -> 0 | I57: =SUM(I56:I56) -> 0 | K57: =SUM(K56:K56) -> 841300 | M57: =SUM(M56:M56) -> 840856568125 | O57: =SUM(O56:O56) -> -841082665000 | Q57: =SUM(Q56:Q56) -> -226096875
I59: 0
I60: =I59-I57 -> 0

Sheet درآمد ناشی از اختیار فروش
A1: =درآمد!A1 -> صندوق سرمایه‌گذاری بخشی افق دماوند
A2: =درآمد!A2 -> صورت وضعیت درآمدها
A3: ='2-1'!A3 -> دوره یک ماهه منتهی به 30 مهر 1405
A5: 2-1-3- سود ناشی از اعمال اختیار معامله سهام
C6: (مبالغ به ریال)
C7: ='2-1'!C7 -> طی مهر ماه | K7: ='2-1'!M7 -> از ابتدای سال مالی تا پایان مهر ماه
A8: نام اختیار معاملات سهام | C8: تعداد | E8: کارمزد | G8: مالیات اعمال | I8: سود(زیان)اعمال | K8: تعداد | M8: کارمزد | O8: مالیات اعمال | Q8: سود(زیان)اعمال
A9: اختیارخ شپنا-9000-1405/06/18(ضشنا60441) | C9: 0 | E9: 0 | G9: 0 | I9: 0 | K9: 8197000 | M9: 0 | O9: 0 | Q9: 20343471452
A10: اختیارخ فزر-220000-14050629(ضفزر6241) | C10: 0 | E10: 0 | G10: 0 | I10: 0 | K10: 445000 | M10: -21319950 | O10: 0 | Q10: 5319122387
A11: اختیارخ وبصادر-600-1405/05/20(ضصاد50281) | C11: 0 | E11: 0 | G11: 0 | I11: 0 | K11: 35961000 | M11: -11335468 | O11: 0 | Q11: 3813160132
A12: اختیارخ شستا-2200-1405/06/11(ضستا60491) | C12: 0 | E12: 0 | G12: 0 | I12: 0 | K12: 18613000 | M12: -91300 | O12: 0 | Q12: 1709414132
A13: اختیارخ شپنا-6500-1405/04/17(ضشنا40311) | C13: 0 | E13: 0 | G13: 0 | I13: 0 | K13: 8000000 | M13: -30361391 | O13: -248982500 | Q13: 1682096085
A14: اختیارخ فارس-10000-1404/12/13(ضفار12061) | C14: 0 | E14: 0 | G14: 0 | I14: 0 | K14: 1012000 | M14: -3520000 | O14: -35200000 | Q14: 860979948
A15: اختیارخ وبصادر-600-1405/03/20(ضصاد30631) | C15: 0 | E15: 0 | G15: 0 | I15: 0 | K15: 40000000 | M15: -11700 | O15: -70257000 | Q15: 610784507
A16: اختیارخ فزر-170000-14050629(ضفزر6191) | C16: 0 | E16: 0 | G16: 0 | I16: 0 | K16: 300000 | M16: -26999100 | O16: 0 | Q16: 313051752
A17: اختیارخ فزر-180000-14050629(ضفزر6201) | C17: 0 | E17: 0 | G17: 0 | I17: 0 | K17: 19000 | M17: -1510500 | O17: 0 | Q17: 84754150
A18: اختیارخ فملی-22000-1405/05/14(ضملی50331) | C18: 0 | E18: 0 | G18: 0 | I18: 0 | K18: 24678000 | M18: -12863294 | O18: 0 | Q18: 57683703
A19: اختیارخ شستا-2000-1405/04/10(ضستا40451) | C19: 0 | E19: 0 | G19: 0 | I19: 0 | K19: 9313000 | M19: -1392186 | O19: 0 | Q19: 25012630
A20: اختیارخ وبصادر-550-1405/05/20(ضصاد50271) | C20: 0 | E20: 0 | G20: 0 | I20: 0 | K20: 4000000 | M20: -558366 | O20: 0 | Q20: 23983000
... A25: اختیارخ فملی-18000-1405/05/14(ضملی50311) | C25: 0 | E25: 0 | G25: 0 | I25: 0 | K25: 9029142 | M25: -17979576 | O25: 0 | Q25: -8668969170
C26: =SUM(C9:C25) -> 0 | E26: =SUM(E9:E25) -> 0 | G26: =SUM(G9:G25) -> 0 | I26: =SUM(I9:I25) -> 0 | K26: =SUM(K9:K25) -> 243225142 | M26: =SUM(M9:M25) -> -133320496 | O26: =SUM(O9:O25) -> -394909500 | Q26: =SUM(Q9:Q25) -> 23647494619
I28: 0 | Q28: 23647494619
I29: =I28-I26 -> 0 | Q29: =Q28-Q26 -> 0
